BEGIN:VCALENDAR
VERSION:2.0
PRODID:-//Macallans Pub - Montreal - ECPv6.15.20//NONSGML v1.0//EN
CALSCALE:GREGORIAN
METHOD:PUBLISH
X-ORIGINAL-URL:https://macallanspub.ca
X-WR-CALDESC:Events for Macallans Pub - Montreal
REFRESH-INTERVAL;VALUE=DURATION:PT1H
X-Robots-Tag:noindex
X-PUBLISHED-TTL:PT1H
BEGIN:VTIMEZONE
TZID:America/Toronto
BEGIN:DAYLIGHT
TZOFFSETFROM:-0500
TZOFFSETTO:-0400
TZNAME:EDT
DTSTART:20250309T070000
END:DAYLIGHT
BEGIN:STANDARD
TZOFFSETFROM:-0400
TZOFFSETTO:-0500
TZNAME:EST
DTSTART:20251102T060000
END:STANDARD
BEGIN:DAYLIGHT
TZOFFSETFROM:-0500
TZOFFSETTO:-0400
TZNAME:EDT
DTSTART:20260308T070000
END:DAYLIGHT
BEGIN:STANDARD
TZOFFSETFROM:-0400
TZOFFSETTO:-0500
TZNAME:EST
DTSTART:20261101T060000
END:STANDARD
BEGIN:DAYLIGHT
TZOFFSETFROM:-0500
TZOFFSETTO:-0400
TZNAME:EDT
DTSTART:20270314T070000
END:DAYLIGHT
BEGIN:STANDARD
TZOFFSETFROM:-0400
TZOFFSETTO:-0500
TZNAME:EST
DTSTART:20271107T060000
END:STANDARD
END:VTIMEZONE
BEGIN:VEVENT
DTSTART;TZID=America/Toronto:20260325T170000
DTEND;TZID=America/Toronto:20260325T170000
DTSTAMP:20260424T040307
CREATED:20260323T205150Z
LAST-MODIFIED:20260323T205150Z
UID:23242-1774458000-1774458000@macallanspub.ca
SUMMARY:2 for 1 burger 5PM TO 8PM Every Wednesday (with the purchase of a drink)
DESCRIPTION:Every Wednesday (with the purchase of a drink)
URL:https://macallanspub.ca/event/2-for-1-burger-5pm-to-8pm-every-wednesday-with-the-purchase-of-a-drink-2-2-2-2/
CATEGORIES:Weekly Specials
ATTACH;FMTTYPE=image/png:https://macallanspub.ca/wp-content/uploads/2025/06/50_off_12.png
END:VEVENT
BEGIN:VEVENT
DTSTART;TZID=America/Toronto:20260325T110000
DTEND;TZID=America/Toronto:20260325T110000
DTSTAMP:20260424T040307
CREATED:20260323T204606Z
LAST-MODIFIED:20260323T204634Z
UID:23239-1774436400-1774436400@macallanspub.ca
SUMMARY:FREE POOL
DESCRIPTION:
URL:https://macallanspub.ca/event/free-pool-3-1/
CATEGORIES:Weekly Specials
ATTACH;FMTTYPE=image/jpeg:https://macallanspub.ca/wp-content/uploads/2024/03/pool.jpg
END:VEVENT
BEGIN:VEVENT
DTSTART;TZID=America/Toronto:20260324T190000
DTEND;TZID=America/Toronto:20260324T190000
DTSTAMP:20260424T040307
CREATED:20260323T204426Z
LAST-MODIFIED:20260323T204426Z
UID:23236-1774378800-1774378800@macallanspub.ca
SUMMARY:Trivia Night
DESCRIPTION:Put your knowledge to the test with an evening of fun\, friendly competition\, and great company. Gather your team\, grab a drink\, and see if you’ve got what it takes to come out on top. Prizes await the sharpest minds!
URL:https://macallanspub.ca/event/trivia-night-48-4-2/
CATEGORIES:Weekly Specials
ATTACH;FMTTYPE=image/jpeg:https://macallanspub.ca/wp-content/uploads/2024/01/trv.jpg
END:VEVENT
BEGIN:VEVENT
DTSTART;TZID=America/Toronto:20260323T190000
DTEND;TZID=America/Toronto:20260323T190000
DTSTAMP:20260424T040307
CREATED:20251218T185748Z
LAST-MODIFIED:20260116T150639Z
UID:22393-1774292400-1774292400@macallanspub.ca
SUMMARY:Karaoke Night
DESCRIPTION:Grab the mic\, pick your song\, and sing your heart out. Karaoke Night at the pub is all about good vibes\, big voices\, and even bigger laughs!
URL:https://macallanspub.ca/event/karaoke-night-21/
CATEGORIES:Live Music Events,Weekly Specials
ATTACH;FMTTYPE=image/jpeg:https://macallanspub.ca/wp-content/uploads/2025/12/KARAOKE-1.jpg
END:VEVENT
BEGIN:VEVENT
DTSTART;TZID=America/Toronto:20260323T110000
DTEND;TZID=America/Toronto:20260323T110000
DTSTAMP:20260424T040307
CREATED:20260323T201845Z
LAST-MODIFIED:20260323T201859Z
UID:23212-1774263600-1774263600@macallanspub.ca
SUMMARY:FREE POOL
DESCRIPTION:
URL:https://macallanspub.ca/event/free-pool-2-2/
CATEGORIES:Weekly Specials
ATTACH;FMTTYPE=image/jpeg:https://macallanspub.ca/wp-content/uploads/2024/03/pool.jpg
END:VEVENT
BEGIN:VEVENT
DTSTART;TZID=America/Toronto:20260316T190000
DTEND;TZID=America/Toronto:20260316T190000
DTSTAMP:20260424T040307
CREATED:20251218T185639Z
LAST-MODIFIED:20260116T150723Z
UID:22387-1773687600-1773687600@macallanspub.ca
SUMMARY:Karaoke Night
DESCRIPTION:Grab the mic\, pick your song\, and sing your heart out. Karaoke Night at the pub is all about good vibes\, big voices\, and even bigger laughs!
URL:https://macallanspub.ca/event/karaoke-night-20/
CATEGORIES:Live Music Events,Weekly Specials
ATTACH;FMTTYPE=image/jpeg:https://macallanspub.ca/wp-content/uploads/2025/12/KARAOKE-1.jpg
END:VEVENT
BEGIN:VEVENT
DTSTART;TZID=America/Toronto:20260312T180000
DTEND;TZID=America/Toronto:20260312T180000
DTSTAMP:20260424T040307
CREATED:20260216T190515Z
LAST-MODIFIED:20260319T175608Z
UID:23049-1773338400-1773338400@macallanspub.ca
SUMMARY:Unplugged Thursdays – The Wayne & Gerry Trio
DESCRIPTION:Unplugged Thursdays at Macallan’s Pub brings the best of Montreal’s local music scene to the stage every week. Grab a drink\, kick back\, and enjoy live performances from talented hometown bands in a laid-back pub atmosphere.
URL:https://macallanspub.ca/event/unplugged-thursdays-the-wayne-gerry-trio-2/
CATEGORIES:Live Music Events,Weekly Specials
ATTACH;FMTTYPE=image/png:https://macallanspub.ca/wp-content/uploads/2026/02/ChatGPT-Image-Feb-12-2026-05_57_09-PM.png
END:VEVENT
BEGIN:VEVENT
DTSTART;TZID=America/Toronto:20260302T190000
DTEND;TZID=America/Toronto:20260302T190000
DTSTAMP:20260424T040307
CREATED:20251218T184956Z
LAST-MODIFIED:20260116T150801Z
UID:22383-1772478000-1772478000@macallanspub.ca
SUMMARY:Karaoke Night
DESCRIPTION:Grab the mic\, pick your song\, and sing your heart out. Karaoke Night at the pub is all about good vibes\, big voices\, and even bigger laughs!
URL:https://macallanspub.ca/event/karaoke-night-18/
CATEGORIES:Live Music Events,Weekly Specials
ATTACH;FMTTYPE=image/jpeg:https://macallanspub.ca/wp-content/uploads/2025/12/KARAOKE-1.jpg
END:VEVENT
BEGIN:VEVENT
DTSTART;TZID=America/Toronto:20260301T220000
DTEND;TZID=America/Toronto:20260301T220000
DTSTAMP:20260424T040307
CREATED:20260106T224057Z
LAST-MODIFIED:20260106T224057Z
UID:22837-1772402400-1772402400@macallanspub.ca
SUMMARY:2 FOR 1 SUNDAY FUNDAY 10PM-1AM
DESCRIPTION:
URL:https://macallanspub.ca/event/2-for-1-sunday-funday-10pm-1am-8/
CATEGORIES:Weekly Specials
ATTACH;FMTTYPE=image/jpeg:https://macallanspub.ca/wp-content/uploads/2025/12/SUNDAY-FUNDAY.jpg
END:VEVENT
BEGIN:VEVENT
DTSTART;TZID=America/Toronto:20260228T230000
DTEND;TZID=America/Toronto:20260228T230000
DTSTAMP:20260424T040307
CREATED:20260106T200104Z
LAST-MODIFIED:20260106T200607Z
UID:22708-1772319600-1772319600@macallanspub.ca
SUMMARY:11pm-2am 25% off bottles
DESCRIPTION:
URL:https://macallanspub.ca/event/11pm-2am-25-off-bottles-8/
CATEGORIES:Weekly Specials
ATTACH;FMTTYPE=image/jpeg:https://macallanspub.ca/wp-content/uploads/2024/11/bottles.jpg
END:VEVENT
BEGIN:VEVENT
DTSTART;TZID=America/Toronto:20260227T110000
DTEND;TZID=America/Toronto:20260227T110000
DTSTAMP:20260424T040307
CREATED:20260107T163037Z
LAST-MODIFIED:20260116T183711Z
UID:22859-1772190000-1772190000@macallanspub.ca
SUMMARY:FISH N’ CHIPS FRIDAY
DESCRIPTION:UNTIL 2:30PM – 50% OFF with the purchase of a drink.
URL:https://macallanspub.ca/event/fish-n-chips-friday-21/
CATEGORIES:Weekly Specials
ATTACH;FMTTYPE=image/jpeg:https://macallanspub.ca/wp-content/uploads/2025/09/546187412_1340391094759632_3947616882157137677_n.jpg
END:VEVENT
BEGIN:VEVENT
DTSTART;TZID=America/Toronto:20260226T170000
DTEND;TZID=America/Toronto:20260226T170000
DTSTAMP:20260424T040307
CREATED:20260106T221621Z
LAST-MODIFIED:20260106T221633Z
UID:22796-1772125200-1772125200@macallanspub.ca
SUMMARY:50% off Chicken Wings and Tenders 5PM TO 1AM
DESCRIPTION:
URL:https://macallanspub.ca/event/50-off-chicken-wings-and-tenders-5pm-to-1am-8/
CATEGORIES:Weekly Specials
ATTACH;FMTTYPE=image/png:https://macallanspub.ca/wp-content/uploads/2025/09/50_off.png
END:VEVENT
BEGIN:VEVENT
DTSTART;TZID=America/Toronto:20260225T170000
DTEND;TZID=America/Toronto:20260225T170000
DTSTAMP:20260424T040307
CREATED:20260106T215954Z
LAST-MODIFIED:20260106T215954Z
UID:22775-1772038800-1772038800@macallanspub.ca
SUMMARY:2 for 1 burger 5PM TO 8PM Every Wednesday (with the purchase of a drink)
DESCRIPTION:Every Wednesday (with the purchase of a drink)
URL:https://macallanspub.ca/event/2-for-1-burger-5pm-to-8pm-every-wednesday-with-the-purchase-of-a-drink-2/
CATEGORIES:Weekly Specials
ATTACH;FMTTYPE=image/png:https://macallanspub.ca/wp-content/uploads/2025/06/50_off_12.png
END:VEVENT
BEGIN:VEVENT
DTSTART;TZID=America/Toronto:20260224T190000
DTEND;TZID=America/Toronto:20260224T190000
DTSTAMP:20260424T040307
CREATED:20260106T204618Z
LAST-MODIFIED:20260106T204726Z
UID:22728-1771959600-1771959600@macallanspub.ca
SUMMARY:Trivia Night
DESCRIPTION:
URL:https://macallanspub.ca/event/trivia-night-48/
CATEGORIES:Weekly Specials
ATTACH;FMTTYPE=image/jpeg:https://macallanspub.ca/wp-content/uploads/2024/01/trv.jpg
END:VEVENT
BEGIN:VEVENT
DTSTART;TZID=America/Toronto:20260223T190000
DTEND;TZID=America/Toronto:20260223T190000
DTSTAMP:20260424T040307
CREATED:20251218T184437Z
LAST-MODIFIED:20260116T151308Z
UID:22381-1771873200-1771873200@macallanspub.ca
SUMMARY:Karaoke Night
DESCRIPTION:Grab the mic\, pick your song\, and sing your heart out. Karaoke Night at the pub is all about good vibes\, big voices\, and even bigger laughs!
URL:https://macallanspub.ca/event/karaoke-night-17/
CATEGORIES:Live Music Events,Weekly Specials
ATTACH;FMTTYPE=image/jpeg:https://macallanspub.ca/wp-content/uploads/2025/12/KARAOKE-1.jpg
END:VEVENT
BEGIN:VEVENT
DTSTART;TZID=America/Toronto:20260222T220000
DTEND;TZID=America/Toronto:20260322T220000
DTSTAMP:20260424T040307
CREATED:20260106T224001Z
LAST-MODIFIED:20260106T224001Z
UID:22834-1771797600-1774216800@macallanspub.ca
SUMMARY:2 FOR 1 SUNDAY FUNDAY 10PM-1AM
DESCRIPTION:
URL:https://macallanspub.ca/event/2-for-1-sunday-funday-10pm-1am-7/
CATEGORIES:Weekly Specials
ATTACH;FMTTYPE=image/jpeg:https://macallanspub.ca/wp-content/uploads/2025/12/SUNDAY-FUNDAY.jpg
END:VEVENT
BEGIN:VEVENT
DTSTART;TZID=America/Toronto:20260221T230000
DTEND;TZID=America/Toronto:20260221T230000
DTSTAMP:20260424T040307
CREATED:20260106T195923Z
LAST-MODIFIED:20260106T195923Z
UID:22706-1771714800-1771714800@macallanspub.ca
SUMMARY:11pm-2am 25% off bottles
DESCRIPTION:
URL:https://macallanspub.ca/event/11pm-2am-25-off-bottles-7/
CATEGORIES:Weekly Specials
ATTACH;FMTTYPE=image/jpeg:https://macallanspub.ca/wp-content/uploads/2024/11/bottles.jpg
END:VEVENT
BEGIN:VEVENT
DTSTART;TZID=America/Toronto:20260220T110000
DTEND;TZID=America/Toronto:20260220T110000
DTSTAMP:20260424T040307
CREATED:20260107T162921Z
LAST-MODIFIED:20260116T184044Z
UID:22857-1771585200-1771585200@macallanspub.ca
SUMMARY:FISH N’ CHIPS FRIDAY
DESCRIPTION:UNTIL 2:30PM – 50% OFF with the purchase of a drink.
URL:https://macallanspub.ca/event/fish-n-chips-friday-20/
CATEGORIES:Weekly Specials
ATTACH;FMTTYPE=image/jpeg:https://macallanspub.ca/wp-content/uploads/2025/09/546187412_1340391094759632_3947616882157137677_n.jpg
END:VEVENT
BEGIN:VEVENT
DTSTART;TZID=America/Toronto:20260219T170000
DTEND;TZID=America/Toronto:20260219T170000
DTSTAMP:20260424T040307
CREATED:20260106T221531Z
LAST-MODIFIED:20260106T221531Z
UID:22794-1771520400-1771520400@macallanspub.ca
SUMMARY:50% off Chicken Wings and Tenders 5PM TO 1AM
DESCRIPTION:
URL:https://macallanspub.ca/event/50-off-chicken-wings-and-tenders-5pm-to-1am-7/
CATEGORIES:Weekly Specials
ATTACH;FMTTYPE=image/png:https://macallanspub.ca/wp-content/uploads/2025/09/50_off.png
END:VEVENT
BEGIN:VEVENT
DTSTART;TZID=America/Toronto:20260218T170000
DTEND;TZID=America/Toronto:20260218T170000
DTSTAMP:20260424T040307
CREATED:20260106T215636Z
LAST-MODIFIED:20260106T215636Z
UID:22772-1771434000-1771434000@macallanspub.ca
SUMMARY:2 for 1 burger 5PM TO 8PM
DESCRIPTION:Every Wednesday (with the purchase of a drink)
URL:https://macallanspub.ca/event/2-for-1-burger-5pm-to-8pm-6/
CATEGORIES:Weekly Specials
ATTACH;FMTTYPE=image/png:https://macallanspub.ca/wp-content/uploads/2025/06/50_off_12.png
END:VEVENT
BEGIN:VEVENT
DTSTART;TZID=America/Toronto:20260218T110000
DTEND;TZID=America/Toronto:20260218T110000
DTSTAMP:20260424T040307
CREATED:20260106T211439Z
LAST-MODIFIED:20260106T211439Z
UID:22745-1771412400-1771412400@macallanspub.ca
SUMMARY:FREE POOL 11AM-3AM
DESCRIPTION:
URL:https://macallanspub.ca/event/free-pool-11am-3am-7/
CATEGORIES:Weekly Specials
ATTACH;FMTTYPE=image/jpeg:https://macallanspub.ca/wp-content/uploads/2024/03/pool.jpg
END:VEVENT
BEGIN:VEVENT
DTSTART;TZID=America/Toronto:20260217T190000
DTEND;TZID=America/Toronto:20260217T190000
DTSTAMP:20260424T040307
CREATED:20260106T204012Z
LAST-MODIFIED:20260106T204140Z
UID:22726-1771354800-1771354800@macallanspub.ca
SUMMARY:Trivia Night
DESCRIPTION:
URL:https://macallanspub.ca/event/trivia-night-47/
CATEGORIES:Weekly Specials
ATTACH;FMTTYPE=image/jpeg:https://macallanspub.ca/wp-content/uploads/2024/01/trv.jpg
END:VEVENT
BEGIN:VEVENT
DTSTART;TZID=America/Toronto:20260216T190000
DTEND;TZID=America/Toronto:20260216T190000
DTSTAMP:20260424T040307
CREATED:20251218T184338Z
LAST-MODIFIED:20260116T151358Z
UID:22377-1771268400-1771268400@macallanspub.ca
SUMMARY:Karaoke Night
DESCRIPTION:Grab the mic\, pick your song\, and sing your heart out. Karaoke Night at the pub is all about good vibes\, big voices\, and even bigger laughs!
URL:https://macallanspub.ca/event/karaoke-night-16/
CATEGORIES:Live Music Events,Weekly Specials
ATTACH;FMTTYPE=image/jpeg:https://macallanspub.ca/wp-content/uploads/2025/12/KARAOKE-1.jpg
END:VEVENT
BEGIN:VEVENT
DTSTART;TZID=America/Toronto:20260215T220000
DTEND;TZID=America/Toronto:20260215T220000
DTSTAMP:20260424T040307
CREATED:20260106T223542Z
LAST-MODIFIED:20260106T223902Z
UID:22829-1771192800-1771192800@macallanspub.ca
SUMMARY:2 FOR 1 SUNDAY FUNDAY 10PM-1AM
DESCRIPTION:
URL:https://macallanspub.ca/event/2-for-1-sunday-funday-10pm-1am-5/
CATEGORIES:Weekly Specials
ATTACH;FMTTYPE=image/jpeg:https://macallanspub.ca/wp-content/uploads/2025/12/SUNDAY-FUNDAY.jpg
END:VEVENT
BEGIN:VEVENT
DTSTART;TZID=America/Toronto:20260214T230000
DTEND;TZID=America/Toronto:20260214T230000
DTSTAMP:20260424T040307
CREATED:20260106T195524Z
LAST-MODIFIED:20260106T195634Z
UID:22704-1771110000-1771110000@macallanspub.ca
SUMMARY:11pm-2am 25% off bottles
DESCRIPTION:
URL:https://macallanspub.ca/event/11pm-2am-25-off-bottles-6/
CATEGORIES:Weekly Specials
ATTACH;FMTTYPE=image/jpeg:https://macallanspub.ca/wp-content/uploads/2024/11/bottles.jpg
END:VEVENT
BEGIN:VEVENT
DTSTART;TZID=America/Toronto:20260213T110000
DTEND;TZID=America/Toronto:20260213T110000
DTSTAMP:20260424T040307
CREATED:20260107T161802Z
LAST-MODIFIED:20260116T184212Z
UID:22852-1770980400-1770980400@macallanspub.ca
SUMMARY:FISH N' CHIPS FRIDAY
DESCRIPTION:UNTIL 2:30PM – 50% OFF with the purchase of a drink.
URL:https://macallanspub.ca/event/fish-n-chips-friday-18/
CATEGORIES:Weekly Specials
ATTACH;FMTTYPE=image/jpeg:https://macallanspub.ca/wp-content/uploads/2025/09/546187412_1340391094759632_3947616882157137677_n.jpg
END:VEVENT
BEGIN:VEVENT
DTSTART;TZID=America/Toronto:20260212T170000
DTEND;TZID=America/Toronto:20260212T170000
DTSTAMP:20260424T040307
CREATED:20260106T221437Z
LAST-MODIFIED:20260106T221437Z
UID:22790-1770915600-1770915600@macallanspub.ca
SUMMARY:50% off Chicken Wings and Tenders 5PM TO 1AM
DESCRIPTION:
URL:https://macallanspub.ca/event/50-off-chicken-wings-and-tenders-5pm-to-1am-6/
CATEGORIES:Weekly Specials
ATTACH;FMTTYPE=image/png:https://macallanspub.ca/wp-content/uploads/2025/09/50_off.png
END:VEVENT
BEGIN:VEVENT
DTSTART;TZID=America/Toronto:20260211T170000
DTEND;TZID=America/Toronto:20260211T170000
DTSTAMP:20260424T040307
CREATED:20260106T215526Z
LAST-MODIFIED:20260106T215526Z
UID:22770-1770829200-1770829200@macallanspub.ca
SUMMARY:2 for 1 burger 5PM TO 8PM
DESCRIPTION:Every Wednesday (with the purchase of a drink)
URL:https://macallanspub.ca/event/2-for-1-burger-5pm-to-8pm-5/
CATEGORIES:Weekly Specials
ATTACH;FMTTYPE=image/png:https://macallanspub.ca/wp-content/uploads/2025/06/50_off_12.png
END:VEVENT
BEGIN:VEVENT
DTSTART;TZID=America/Toronto:20260211T110000
DTEND;TZID=America/Toronto:20260211T110000
DTSTAMP:20260424T040307
CREATED:20260106T210527Z
LAST-MODIFIED:20260106T210527Z
UID:22742-1770807600-1770807600@macallanspub.ca
SUMMARY:FREE POOL 11AM-3AM
DESCRIPTION:
URL:https://macallanspub.ca/event/free-pool-11am-3am-6/
CATEGORIES:Weekly Specials
ATTACH;FMTTYPE=image/jpeg:https://macallanspub.ca/wp-content/uploads/2024/03/pool.jpg
END:VEVENT
BEGIN:VEVENT
DTSTART;TZID=America/Toronto:20260210T190000
DTEND;TZID=America/Toronto:20260210T190000
DTSTAMP:20260424T040307
CREATED:20260106T203620Z
LAST-MODIFIED:20260106T203646Z
UID:22724-1770750000-1770750000@macallanspub.ca
SUMMARY:Trivia Night
DESCRIPTION:
URL:https://macallanspub.ca/event/trivia-night-46/
CATEGORIES:Weekly Specials
ATTACH;FMTTYPE=image/jpeg:https://macallanspub.ca/wp-content/uploads/2024/01/trv.jpg
END:VEVENT
END:VCALENDAR