BEGIN:VCALENDAR
VERSION:2.0
PRODID:-//Macallans Pub - Montreal - ECPv6.15.20//NONSGML v1.0//EN
CALSCALE:GREGORIAN
METHOD:PUBLISH
X-ORIGINAL-URL:https://macallanspub.ca
X-WR-CALDESC:Events for Macallans Pub - Montreal
REFRESH-INTERVAL;VALUE=DURATION:PT1H
X-Robots-Tag:noindex
X-PUBLISHED-TTL:PT1H
BEGIN:VTIMEZONE
TZID:America/Toronto
BEGIN:DAYLIGHT
TZOFFSETFROM:-0500
TZOFFSETTO:-0400
TZNAME:EDT
DTSTART:20250309T070000
END:DAYLIGHT
BEGIN:STANDARD
TZOFFSETFROM:-0400
TZOFFSETTO:-0500
TZNAME:EST
DTSTART:20251102T060000
END:STANDARD
BEGIN:DAYLIGHT
TZOFFSETFROM:-0500
TZOFFSETTO:-0400
TZNAME:EDT
DTSTART:20260308T070000
END:DAYLIGHT
BEGIN:STANDARD
TZOFFSETFROM:-0400
TZOFFSETTO:-0500
TZNAME:EST
DTSTART:20261101T060000
END:STANDARD
BEGIN:DAYLIGHT
TZOFFSETFROM:-0500
TZOFFSETTO:-0400
TZNAME:EDT
DTSTART:20270314T070000
END:DAYLIGHT
BEGIN:STANDARD
TZOFFSETFROM:-0400
TZOFFSETTO:-0500
TZNAME:EST
DTSTART:20271107T060000
END:STANDARD
END:VTIMEZONE
BEGIN:VEVENT
DTSTART;TZID=America/Toronto:20260209T190000
DTEND;TZID=America/Toronto:20260209T190000
DTSTAMP:20260424T053008
CREATED:20251218T184137Z
LAST-MODIFIED:20260116T151439Z
UID:22374-1770663600-1770663600@macallanspub.ca
SUMMARY:Karaoke Night
DESCRIPTION:Grab the mic\, pick your song\, and sing your heart out. Karaoke Night at the pub is all about good vibes\, big voices\, and even bigger laughs!
URL:https://macallanspub.ca/event/karaoke-night-15/
CATEGORIES:Live Music Events,Weekly Specials
ATTACH;FMTTYPE=image/jpeg:https://macallanspub.ca/wp-content/uploads/2025/12/KARAOKE-1.jpg
END:VEVENT
BEGIN:VEVENT
DTSTART;TZID=America/Toronto:20260208T220000
DTEND;TZID=America/Toronto:20260208T220000
DTSTAMP:20260424T053008
CREATED:20260106T223700Z
LAST-MODIFIED:20260106T223700Z
UID:22831-1770588000-1770588000@macallanspub.ca
SUMMARY:2 FOR 1 SUNDAY FUNDAY 10PM-1AM
DESCRIPTION:
URL:https://macallanspub.ca/event/2-for-1-sunday-funday-10pm-1am-6/
CATEGORIES:Weekly Specials
ATTACH;FMTTYPE=image/jpeg:https://macallanspub.ca/wp-content/uploads/2025/12/SUNDAY-FUNDAY.jpg
END:VEVENT
BEGIN:VEVENT
DTSTART;TZID=America/Toronto:20260207T230000
DTEND;TZID=America/Toronto:20260207T230000
DTSTAMP:20260424T053008
CREATED:20260106T195243Z
LAST-MODIFIED:20260106T195304Z
UID:22702-1770505200-1770505200@macallanspub.ca
SUMMARY:11pm-2am 25% off bottles
DESCRIPTION:
URL:https://macallanspub.ca/event/11pm-2am-25-off-bottles-5/
CATEGORIES:Weekly Specials
ATTACH;FMTTYPE=image/jpeg:https://macallanspub.ca/wp-content/uploads/2024/11/bottles.jpg
END:VEVENT
BEGIN:VEVENT
DTSTART;TZID=America/Toronto:20260206T110000
DTEND;TZID=America/Toronto:20260206T110000
DTSTAMP:20260424T053008
CREATED:20260107T161500Z
LAST-MODIFIED:20260116T184311Z
UID:22849-1770375600-1770375600@macallanspub.ca
SUMMARY:FISH N' CHIPS FRIDAY
DESCRIPTION:UNTIL 2:30PM – 50% OFF with the purchase of a drink.
URL:https://macallanspub.ca/event/fish-n-chips-friday-17/
CATEGORIES:Weekly Specials
ATTACH;FMTTYPE=image/jpeg:https://macallanspub.ca/wp-content/uploads/2025/09/546187412_1340391094759632_3947616882157137677_n.jpg
END:VEVENT
BEGIN:VEVENT
DTSTART;TZID=America/Toronto:20260205T170000
DTEND;TZID=America/Toronto:20260205T170000
DTSTAMP:20260424T053008
CREATED:20260106T221324Z
LAST-MODIFIED:20260106T221352Z
UID:22787-1770310800-1770310800@macallanspub.ca
SUMMARY:50% off Chicken Wings and Tenders 5PM TO 1AM
DESCRIPTION:
URL:https://macallanspub.ca/event/50-off-chicken-wings-and-tenders-5pm-to-1am-5/
CATEGORIES:Weekly Specials
ATTACH;FMTTYPE=image/png:https://macallanspub.ca/wp-content/uploads/2025/09/50_off.png
END:VEVENT
BEGIN:VEVENT
DTSTART;TZID=America/Toronto:20260204T170000
DTEND;TZID=America/Toronto:20260204T170000
DTSTAMP:20260424T053008
CREATED:20260106T213529Z
LAST-MODIFIED:20260106T215305Z
UID:22764-1770224400-1770224400@macallanspub.ca
SUMMARY:2 for 1 burger 5PM TO 8PM
DESCRIPTION:Every Wednesday (with the purchase of a drink)
URL:https://macallanspub.ca/event/2-for-1-burger-5pm-to-8pm-4/
CATEGORIES:Weekly Specials
ATTACH;FMTTYPE=image/png:https://macallanspub.ca/wp-content/uploads/2025/06/50_off_12.png
END:VEVENT
BEGIN:VEVENT
DTSTART;TZID=America/Toronto:20260204T110000
DTEND;TZID=America/Toronto:20260204T110000
DTSTAMP:20260424T053008
CREATED:20260106T210412Z
LAST-MODIFIED:20260106T210412Z
UID:22740-1770202800-1770202800@macallanspub.ca
SUMMARY:FREE POOL 11AM-3AM
DESCRIPTION:
URL:https://macallanspub.ca/event/free-pool-11am-3am-5/
CATEGORIES:Weekly Specials
ATTACH;FMTTYPE=image/jpeg:https://macallanspub.ca/wp-content/uploads/2024/03/pool.jpg
END:VEVENT
BEGIN:VEVENT
DTSTART;TZID=America/Toronto:20260203T190000
DTEND;TZID=America/Toronto:20260203T190000
DTSTAMP:20260424T053008
CREATED:20260106T203500Z
LAST-MODIFIED:20260106T203500Z
UID:22722-1770145200-1770145200@macallanspub.ca
SUMMARY:Trivia Night
DESCRIPTION:
URL:https://macallanspub.ca/event/trivia-night-45/
CATEGORIES:Weekly Specials
ATTACH;FMTTYPE=image/jpeg:https://macallanspub.ca/wp-content/uploads/2024/01/trv.jpg
END:VEVENT
BEGIN:VEVENT
DTSTART;TZID=America/Toronto:20260202T200000
DTEND;TZID=America/Toronto:20260202T200000
DTSTAMP:20260424T053008
CREATED:20251218T183510Z
LAST-MODIFIED:20260116T151529Z
UID:22371-1770062400-1770062400@macallanspub.ca
SUMMARY:Karaoke Night
DESCRIPTION:Grab the mic\, pick your song\, and sing your heart out. Karaoke Night at the pub is all about good vibes\, big voices\, and even bigger laughs!
URL:https://macallanspub.ca/event/karaoke-night-14/
CATEGORIES:Live Music Events,Weekly Specials
ATTACH;FMTTYPE=image/jpeg:https://macallanspub.ca/wp-content/uploads/2025/12/KARAOKE-1.jpg
END:VEVENT
BEGIN:VEVENT
DTSTART;TZID=America/Toronto:20260201T220000
DTEND;TZID=America/Toronto:20260201T220000
DTSTAMP:20260424T053008
CREATED:20260106T223357Z
LAST-MODIFIED:20260106T223453Z
UID:22827-1769983200-1769983200@macallanspub.ca
SUMMARY:2 FOR 1 SUNDAY FUNDAY 10PM-1AM
DESCRIPTION:
URL:https://macallanspub.ca/event/2-for-1-sunday-funday-10pm-1am-4/
CATEGORIES:Weekly Specials
ATTACH;FMTTYPE=image/jpeg:https://macallanspub.ca/wp-content/uploads/2025/12/SUNDAY-FUNDAY.jpg
END:VEVENT
BEGIN:VEVENT
DTSTART;TZID=America/Toronto:20260131T230000
DTEND;TZID=America/Toronto:20260131T230000
DTSTAMP:20260424T053008
CREATED:20260106T195147Z
LAST-MODIFIED:20260106T195147Z
UID:22700-1769900400-1769900400@macallanspub.ca
SUMMARY:11pm-2am 25% off bottles
DESCRIPTION:
URL:https://macallanspub.ca/event/11pm-2am-25-off-bottles-4/
CATEGORIES:Weekly Specials
ATTACH;FMTTYPE=image/jpeg:https://macallanspub.ca/wp-content/uploads/2024/11/bottles.jpg
END:VEVENT
BEGIN:VEVENT
DTSTART;TZID=America/Toronto:20260130T110000
DTEND;TZID=America/Toronto:20260130T110000
DTSTAMP:20260424T053008
CREATED:20260107T160949Z
LAST-MODIFIED:20260116T184413Z
UID:22846-1769770800-1769770800@macallanspub.ca
SUMMARY:FISH N' CHIPS FRIDAY
DESCRIPTION:UNTIL 2:30PM – 50% OFF with the purchase of a drink.
URL:https://macallanspub.ca/event/fish-n-chips-friday-16/
CATEGORIES:Weekly Specials
ATTACH;FMTTYPE=image/jpeg:https://macallanspub.ca/wp-content/uploads/2025/09/546187412_1340391094759632_3947616882157137677_n.jpg
END:VEVENT
BEGIN:VEVENT
DTSTART;TZID=America/Toronto:20260129T170000
DTEND;TZID=America/Toronto:20260129T170000
DTSTAMP:20260424T053008
CREATED:20260106T221215Z
LAST-MODIFIED:20260106T221215Z
UID:22784-1769706000-1769706000@macallanspub.ca
SUMMARY:50% off Chicken Wings and Tenders 5PM TO 1AM
DESCRIPTION:
URL:https://macallanspub.ca/event/50-off-chicken-wings-and-tenders-5pm-to-1am-4/
CATEGORIES:Weekly Specials
ATTACH;FMTTYPE=image/png:https://macallanspub.ca/wp-content/uploads/2025/09/50_off.png
END:VEVENT
BEGIN:VEVENT
DTSTART;TZID=America/Toronto:20260128T170000
DTEND;TZID=America/Toronto:20260128T170000
DTSTAMP:20260424T053008
CREATED:20260106T213155Z
LAST-MODIFIED:20260106T213354Z
UID:22762-1769619600-1769619600@macallanspub.ca
SUMMARY:2 for 1 burger 5PM TO 8PM
DESCRIPTION:Every Wednesday (with the purchase of a drink)
URL:https://macallanspub.ca/event/2-for-1-burger-5pm-to-8pm-3/
CATEGORIES:Weekly Specials
ATTACH;FMTTYPE=image/png:https://macallanspub.ca/wp-content/uploads/2025/06/50_off_12.png
END:VEVENT
BEGIN:VEVENT
DTSTART;TZID=America/Toronto:20260128T110000
DTEND;TZID=America/Toronto:20260128T110000
DTSTAMP:20260424T053008
CREATED:20260116T190444Z
LAST-MODIFIED:20260116T190642Z
UID:22934-1769598000-1769598000@macallanspub.ca
SUMMARY:FREE POOL 11AM-3AM
DESCRIPTION:
URL:https://macallanspub.ca/event/free-pool-11am-3am-8/
CATEGORIES:Weekly Specials
ATTACH;FMTTYPE=image/jpeg:https://macallanspub.ca/wp-content/uploads/2024/03/pool.jpg
END:VEVENT
BEGIN:VEVENT
DTSTART;TZID=America/Toronto:20260128T110000
DTEND;TZID=America/Toronto:20260128T110000
DTSTAMP:20260424T053008
CREATED:20260106T205941Z
LAST-MODIFIED:20260106T205941Z
UID:22738-1769598000-1769598000@macallanspub.ca
SUMMARY:FREE POOL 11AM-3AM
DESCRIPTION:
URL:https://macallanspub.ca/event/free-pool-11am-3am-4/
CATEGORIES:Weekly Specials
ATTACH;FMTTYPE=image/jpeg:https://macallanspub.ca/wp-content/uploads/2024/03/pool.jpg
END:VEVENT
BEGIN:VEVENT
DTSTART;TZID=America/Toronto:20260127T190000
DTEND;TZID=America/Toronto:20260127T190000
DTSTAMP:20260424T053008
CREATED:20260106T203150Z
LAST-MODIFIED:20260106T203150Z
UID:22719-1769540400-1769540400@macallanspub.ca
SUMMARY:Trivia Night
DESCRIPTION:
URL:https://macallanspub.ca/event/trivia-night-44/
CATEGORIES:Weekly Specials
ATTACH;FMTTYPE=image/jpeg:https://macallanspub.ca/wp-content/uploads/2024/01/trv.jpg
END:VEVENT
BEGIN:VEVENT
DTSTART;TZID=America/Toronto:20260126T200000
DTEND;TZID=America/Toronto:20260126T200000
DTSTAMP:20260424T053008
CREATED:20251218T183341Z
LAST-MODIFIED:20260116T151607Z
UID:22368-1769457600-1769457600@macallanspub.ca
SUMMARY:Karaoke Night
DESCRIPTION:Grab the mic\, pick your song\, and sing your heart out. Karaoke Night at the pub is all about good vibes\, big voices\, and even bigger laughs!
URL:https://macallanspub.ca/event/karaoke-night-13/
CATEGORIES:Live Music Events,Weekly Specials
ATTACH;FMTTYPE=image/jpeg:https://macallanspub.ca/wp-content/uploads/2025/12/KARAOKE-1.jpg
END:VEVENT
BEGIN:VEVENT
DTSTART;TZID=America/Toronto:20260125T220000
DTEND;TZID=America/Toronto:20260125T220000
DTSTAMP:20260424T053008
CREATED:20260106T223252Z
LAST-MODIFIED:20260106T223252Z
UID:22823-1769378400-1769378400@macallanspub.ca
SUMMARY:2 FOR 1 SUNDAY FUNDAY 10PM-1AM
DESCRIPTION:
URL:https://macallanspub.ca/event/2-for-1-sunday-funday-10pm-1am-3/
CATEGORIES:Weekly Specials
ATTACH;FMTTYPE=image/jpeg:https://macallanspub.ca/wp-content/uploads/2025/12/SUNDAY-FUNDAY.jpg
END:VEVENT
BEGIN:VEVENT
DTSTART;TZID=America/Toronto:20260124T230000
DTEND;TZID=America/Toronto:20260124T230000
DTSTAMP:20260424T053008
CREATED:20260106T195100Z
LAST-MODIFIED:20260106T195100Z
UID:22698-1769295600-1769295600@macallanspub.ca
SUMMARY:11pm-2am 25% off bottles
DESCRIPTION:
URL:https://macallanspub.ca/event/11pm-2am-25-off-bottles-3/
CATEGORIES:Weekly Specials
ATTACH;FMTTYPE=image/jpeg:https://macallanspub.ca/wp-content/uploads/2024/11/bottles.jpg
END:VEVENT
BEGIN:VEVENT
DTSTART;TZID=America/Toronto:20260123T110000
DTEND;TZID=America/Toronto:20260123T110000
DTSTAMP:20260424T053008
CREATED:20260107T160727Z
LAST-MODIFIED:20260116T184505Z
UID:22844-1769166000-1769166000@macallanspub.ca
SUMMARY:FISH N' CHIPS FRIDAY
DESCRIPTION:UNTIL 2:30PM – 50% OFF with the purchase of a drink.
URL:https://macallanspub.ca/event/fish-n-chips-friday-15/
CATEGORIES:Weekly Specials
ATTACH;FMTTYPE=image/jpeg:https://macallanspub.ca/wp-content/uploads/2025/09/546187412_1340391094759632_3947616882157137677_n.jpg
END:VEVENT
BEGIN:VEVENT
DTSTART;TZID=America/Toronto:20260122T170000
DTEND;TZID=America/Toronto:20260122T170000
DTSTAMP:20260424T053008
CREATED:20260106T221140Z
LAST-MODIFIED:20260106T221140Z
UID:22782-1769101200-1769101200@macallanspub.ca
SUMMARY:50% off Chicken Wings and Tenders 5PM TO 1AM
DESCRIPTION:
URL:https://macallanspub.ca/event/50-off-chicken-wings-and-tenders-5pm-to-1am-3/
CATEGORIES:Weekly Specials
ATTACH;FMTTYPE=image/png:https://macallanspub.ca/wp-content/uploads/2025/09/50_off.png
END:VEVENT
BEGIN:VEVENT
DTSTART;TZID=America/Toronto:20260121T170000
DTEND;TZID=America/Toronto:20260121T170000
DTSTAMP:20260424T053008
CREATED:20260106T212859Z
LAST-MODIFIED:20260106T212945Z
UID:22760-1769014800-1769014800@macallanspub.ca
SUMMARY:2 for 1 burger 5PM TO 8PM
DESCRIPTION:Every Wednesday (with the purchase of a drink)
URL:https://macallanspub.ca/event/2-for-1-burger-5pm-to-8pm-2/
CATEGORIES:Weekly Specials
ATTACH;FMTTYPE=image/png:https://macallanspub.ca/wp-content/uploads/2025/06/50_off_12.png
END:VEVENT
BEGIN:VEVENT
DTSTART;TZID=America/Toronto:20260121T110000
DTEND;TZID=America/Toronto:20260121T110000
DTSTAMP:20260424T053008
CREATED:20260106T205813Z
LAST-MODIFIED:20260116T190125Z
UID:22736-1768993200-1768993200@macallanspub.ca
SUMMARY:FREE POOL 11AM-3AM
DESCRIPTION:
URL:https://macallanspub.ca/event/free-pool-11am-3am-3/
CATEGORIES:Weekly Specials
ATTACH;FMTTYPE=image/jpeg:https://macallanspub.ca/wp-content/uploads/2024/03/pool.jpg
END:VEVENT
BEGIN:VEVENT
DTSTART;TZID=America/Toronto:20260120T190000
DTEND;TZID=America/Toronto:20260120T190000
DTSTAMP:20260424T053008
CREATED:20260106T203055Z
LAST-MODIFIED:20260106T203055Z
UID:22717-1768935600-1768935600@macallanspub.ca
SUMMARY:Trivia Night
DESCRIPTION:
URL:https://macallanspub.ca/event/trivia-night-43/
CATEGORIES:Weekly Specials
ATTACH;FMTTYPE=image/jpeg:https://macallanspub.ca/wp-content/uploads/2024/01/trv.jpg
END:VEVENT
BEGIN:VEVENT
DTSTART;TZID=America/Toronto:20260119T190000
DTEND;TZID=America/Toronto:20260119T190000
DTSTAMP:20260424T053008
CREATED:20251218T183154Z
LAST-MODIFIED:20260116T151645Z
UID:22365-1768849200-1768849200@macallanspub.ca
SUMMARY:Karaoke Night
DESCRIPTION:Grab the mic\, pick your song\, and sing your heart out. Karaoke Night at the pub is all about good vibes\, big voices\, and even bigger laughs!
URL:https://macallanspub.ca/event/karaoke-night-12/
CATEGORIES:Live Music Events,Weekly Specials
ATTACH;FMTTYPE=image/jpeg:https://macallanspub.ca/wp-content/uploads/2025/12/KARAOKE-1.jpg
END:VEVENT
BEGIN:VEVENT
DTSTART;TZID=America/Toronto:20260118T220000
DTEND;TZID=America/Toronto:20260118T220000
DTSTAMP:20260424T053008
CREATED:20260106T223139Z
LAST-MODIFIED:20260106T223139Z
UID:22820-1768773600-1768773600@macallanspub.ca
SUMMARY:2 FOR 1 SUNDAY FUNDAY 10PM-1AM
DESCRIPTION:
URL:https://macallanspub.ca/event/2-for-1-sunday-funday-10pm-1am-2/
CATEGORIES:Weekly Specials
ATTACH;FMTTYPE=image/jpeg:https://macallanspub.ca/wp-content/uploads/2025/12/SUNDAY-FUNDAY.jpg
END:VEVENT
BEGIN:VEVENT
DTSTART;TZID=America/Toronto:20260117T230000
DTEND;TZID=America/Toronto:20260117T230000
DTSTAMP:20260424T053008
CREATED:20260106T194933Z
LAST-MODIFIED:20260106T194933Z
UID:22696-1768690800-1768690800@macallanspub.ca
SUMMARY:11pm-2am 25% off bottles
DESCRIPTION:
URL:https://macallanspub.ca/event/11pm-2am-25-off-bottles-2/
CATEGORIES:Weekly Specials
ATTACH;FMTTYPE=image/jpeg:https://macallanspub.ca/wp-content/uploads/2024/11/bottles.jpg
END:VEVENT
BEGIN:VEVENT
DTSTART;TZID=America/Toronto:20260116T110000
DTEND;TZID=America/Toronto:20260116T110000
DTSTAMP:20260424T053008
CREATED:20260107T160624Z
LAST-MODIFIED:20260116T184705Z
UID:22842-1768561200-1768561200@macallanspub.ca
SUMMARY:FISH N' CHIPS FRIDAY
DESCRIPTION:UNTIL 2:30PM – 50% OFF with the purchase of a drink.
URL:https://macallanspub.ca/event/fish-n-chips-friday-14/
CATEGORIES:Weekly Specials
ATTACH;FMTTYPE=image/jpeg:https://macallanspub.ca/wp-content/uploads/2025/09/546187412_1340391094759632_3947616882157137677_n.jpg
END:VEVENT
BEGIN:VEVENT
DTSTART;TZID=America/Toronto:20260115T170000
DTEND;TZID=America/Toronto:20260115T170000
DTSTAMP:20260424T053008
CREATED:20260106T221047Z
LAST-MODIFIED:20260106T221047Z
UID:22779-1768496400-1768496400@macallanspub.ca
SUMMARY:50% off Chicken Wings and Tenders 5PM TO 1AM
DESCRIPTION:
URL:https://macallanspub.ca/event/50-off-chicken-wings-and-tenders-5pm-to-1am-2/
CATEGORIES:Weekly Specials
ATTACH;FMTTYPE=image/png:https://macallanspub.ca/wp-content/uploads/2025/09/50_off.png
END:VEVENT
END:VCALENDAR