BEGIN:VCALENDAR
VERSION:2.0
PRODID:-//Macallans Pub - Montreal - ECPv6.15.20//NONSGML v1.0//EN
CALSCALE:GREGORIAN
METHOD:PUBLISH
X-WR-CALNAME:Macallans Pub - Montreal
X-ORIGINAL-URL:https://macallanspub.ca
X-WR-CALDESC:Events for Macallans Pub - Montreal
REFRESH-INTERVAL;VALUE=DURATION:PT1H
X-Robots-Tag:noindex
X-PUBLISHED-TTL:PT1H
BEGIN:VTIMEZONE
TZID:America/Toronto
BEGIN:DAYLIGHT
TZOFFSETFROM:-0500
TZOFFSETTO:-0400
TZNAME:EDT
DTSTART:20240310T070000
END:DAYLIGHT
BEGIN:STANDARD
TZOFFSETFROM:-0400
TZOFFSETTO:-0500
TZNAME:EST
DTSTART:20241103T060000
END:STANDARD
BEGIN:DAYLIGHT
TZOFFSETFROM:-0500
TZOFFSETTO:-0400
TZNAME:EDT
DTSTART:20250309T070000
END:DAYLIGHT
BEGIN:STANDARD
TZOFFSETFROM:-0400
TZOFFSETTO:-0500
TZNAME:EST
DTSTART:20251102T060000
END:STANDARD
BEGIN:DAYLIGHT
TZOFFSETFROM:-0500
TZOFFSETTO:-0400
TZNAME:EDT
DTSTART:20260308T070000
END:DAYLIGHT
BEGIN:STANDARD
TZOFFSETFROM:-0400
TZOFFSETTO:-0500
TZNAME:EST
DTSTART:20261101T060000
END:STANDARD
END:VTIMEZONE
BEGIN:VEVENT
DTSTART;TZID=America/Toronto:20250907T200000
DTEND;TZID=America/Toronto:20250907T200000
DTSTAMP:20260424T095228
CREATED:20250701T025429Z
LAST-MODIFIED:20250701T025700Z
UID:18934-1757275200-1757275200@macallanspub.ca
SUMMARY:2 for 1 drinks 8pm to 12am
DESCRIPTION:2 for 1 drinks 8pm to 12am
URL:https://macallanspub.ca/event/2-for-1-drinks-8pm-to-12am-10/
CATEGORIES:Weekly Specials
ATTACH;FMTTYPE=image/jpeg:https://macallanspub.ca/wp-content/uploads/2025/06/2FOR1.jpg
END:VEVENT
BEGIN:VEVENT
DTSTART;TZID=America/Toronto:20250904T170000
DTEND;TZID=America/Toronto:20250904T170000
DTSTAMP:20260424T095228
CREATED:20250630T210927Z
LAST-MODIFIED:20250630T210927Z
UID:18906-1757005200-1757005200@macallanspub.ca
SUMMARY:1/2 Price Wings (and free pool) 5PM TO 12am
DESCRIPTION:1/2 Price Wings (and free pool) 5PM TO 12am
URL:https://macallanspub.ca/event/1-2-price-wings-and-free-pool-5pm-to-12am-10/
CATEGORIES:Weekly Specials
ATTACH;FMTTYPE=image/jpeg:https://macallanspub.ca/wp-content/uploads/2025/02/WING-NIGHT-1.jpg
END:VEVENT
BEGIN:VEVENT
DTSTART;TZID=America/Toronto:20250903T170000
DTEND;TZID=America/Toronto:20250903T200000
DTSTAMP:20260424T095228
CREATED:20250627T202405Z
LAST-MODIFIED:20250627T202405Z
UID:18807-1756918800-1756929600@macallanspub.ca
SUMMARY:2 for 1 burger (and free pool) 5PM TO 8PM
DESCRIPTION:2 for 1 burger (and free pool) 5PM TO 8PM
URL:https://macallanspub.ca/event/2-for-1-burger-and-free-pool-5pm-to-8pm-9/
CATEGORIES:Weekly Specials
ATTACH;FMTTYPE=image/jpeg:https://macallanspub.ca/wp-content/uploads/2025/02/BURGER-2.jpg
END:VEVENT
BEGIN:VEVENT
DTSTART;TZID=America/Toronto:20250902T190000
DTEND;TZID=America/Toronto:20250902T190000
DTSTAMP:20260424T095228
CREATED:20250626T010545Z
LAST-MODIFIED:20250626T030502Z
UID:18692-1756839600-1756839600@macallanspub.ca
SUMMARY:Trivia Night
DESCRIPTION:Trivia night at Macallans Pub offers an exciting challenge as friends come together to test their knowledge\, eagerly anticipating each new question while enjoying the cozy pub atmosphere.
URL:https://macallanspub.ca/event/trivia-night-38/
CATEGORIES:Weekly Specials
ATTACH;FMTTYPE=image/jpeg:https://macallanspub.ca/wp-content/uploads/2025/01/473568526_1130601452405265_843683785867691804_n.jpg
END:VEVENT
BEGIN:VEVENT
DTSTART;TZID=America/Toronto:20250831T200000
DTEND;TZID=America/Toronto:20250831T200000
DTSTAMP:20260424T095228
CREATED:20250701T025348Z
LAST-MODIFIED:20250701T025742Z
UID:18932-1756670400-1756670400@macallanspub.ca
SUMMARY:2 for 1 drinks 8pm to 12am
DESCRIPTION:2 for 1 drinks 8pm to 12am
URL:https://macallanspub.ca/event/2-for-1-drinks-8pm-to-12am-9/
CATEGORIES:Weekly Specials
ATTACH;FMTTYPE=image/jpeg:https://macallanspub.ca/wp-content/uploads/2025/06/2FOR1.jpg
END:VEVENT
BEGIN:VEVENT
DTSTART;TZID=America/Toronto:20250828T170000
DTEND;TZID=America/Toronto:20250828T170000
DTSTAMP:20260424T095228
CREATED:20250630T210855Z
LAST-MODIFIED:20250630T210855Z
UID:18904-1756400400-1756400400@macallanspub.ca
SUMMARY:1/2 Price Wings (and free pool) 5PM TO 12am
DESCRIPTION:1/2 Price Wings (and free pool) 5PM TO 12am
URL:https://macallanspub.ca/event/1-2-price-wings-and-free-pool-5pm-to-12am-9/
CATEGORIES:Weekly Specials
ATTACH;FMTTYPE=image/jpeg:https://macallanspub.ca/wp-content/uploads/2025/02/WING-NIGHT-1.jpg
END:VEVENT
BEGIN:VEVENT
DTSTART;TZID=America/Toronto:20250827T170000
DTEND;TZID=America/Toronto:20250827T200000
DTSTAMP:20260424T095228
CREATED:20250627T202011Z
LAST-MODIFIED:20250627T202011Z
UID:18803-1756314000-1756324800@macallanspub.ca
SUMMARY:2 for 1 burger (and free pool) 5PM TO 8PM
DESCRIPTION:2 for 1 burger (and free pool) 5PM TO 8PM
URL:https://macallanspub.ca/event/2-for-1-burger-and-free-pool-5pm-to-8pm-7/
CATEGORIES:Weekly Specials
ATTACH;FMTTYPE=image/jpeg:https://macallanspub.ca/wp-content/uploads/2025/02/BURGER-2.jpg
END:VEVENT
BEGIN:VEVENT
DTSTART;TZID=America/Toronto:20250826T190000
DTEND;TZID=America/Toronto:20250826T190000
DTSTAMP:20260424T095228
CREATED:20250626T010345Z
LAST-MODIFIED:20250626T030527Z
UID:18690-1756234800-1756234800@macallanspub.ca
SUMMARY:Trivia Night
DESCRIPTION:Trivia night at Macallans Pub offers an exciting challenge as friends come together to test their knowledge\, eagerly anticipating each new question while enjoying the cozy pub atmosphere.
URL:https://macallanspub.ca/event/trivia-night-37/
CATEGORIES:Weekly Specials
ATTACH;FMTTYPE=image/jpeg:https://macallanspub.ca/wp-content/uploads/2025/01/473568526_1130601452405265_843683785867691804_n.jpg
END:VEVENT
BEGIN:VEVENT
DTSTART;TZID=America/Toronto:20250824T200000
DTEND;TZID=America/Toronto:20250824T200000
DTSTAMP:20260424T095228
CREATED:20250701T025308Z
LAST-MODIFIED:20250701T025814Z
UID:18930-1756065600-1756065600@macallanspub.ca
SUMMARY:2 for 1 drinks 8pm to 12am
DESCRIPTION:2 for 1 drinks 8pm to 12am
URL:https://macallanspub.ca/event/2-for-1-drinks-8pm-to-12am-8/
CATEGORIES:Weekly Specials
ATTACH;FMTTYPE=image/jpeg:https://macallanspub.ca/wp-content/uploads/2025/06/2FOR1.jpg
END:VEVENT
BEGIN:VEVENT
DTSTART;TZID=America/Toronto:20250821T170000
DTEND;TZID=America/Toronto:20250821T170000
DTSTAMP:20260424T095228
CREATED:20250630T210822Z
LAST-MODIFIED:20250630T210822Z
UID:18902-1755795600-1755795600@macallanspub.ca
SUMMARY:1/2 Price Wings (and free pool) 5PM TO 12am
DESCRIPTION:1/2 Price Wings (and free pool) 5PM TO 12am
URL:https://macallanspub.ca/event/1-2-price-wings-and-free-pool-5pm-to-12am-8/
CATEGORIES:Weekly Specials
ATTACH;FMTTYPE=image/jpeg:https://macallanspub.ca/wp-content/uploads/2025/02/WING-NIGHT-1.jpg
END:VEVENT
BEGIN:VEVENT
DTSTART;TZID=America/Toronto:20250820T170000
DTEND;TZID=America/Toronto:20250820T200000
DTSTAMP:20260424T095228
CREATED:20250627T202245Z
LAST-MODIFIED:20250627T202245Z
UID:18805-1755709200-1755720000@macallanspub.ca
SUMMARY:2 for 1 burger (and free pool) 5PM TO 8PM
DESCRIPTION:2 for 1 burger (and free pool) 5PM TO 8PM
URL:https://macallanspub.ca/event/2-for-1-burger-and-free-pool-5pm-to-8pm-8/
CATEGORIES:Weekly Specials
ATTACH;FMTTYPE=image/jpeg:https://macallanspub.ca/wp-content/uploads/2025/02/BURGER-2.jpg
END:VEVENT
BEGIN:VEVENT
DTSTART;TZID=America/Toronto:20250819T190000
DTEND;TZID=America/Toronto:20250819T190000
DTSTAMP:20260424T095228
CREATED:20250626T010232Z
LAST-MODIFIED:20250626T030604Z
UID:18686-1755630000-1755630000@macallanspub.ca
SUMMARY:Trivia Night
DESCRIPTION:Trivia night at Macallans Pub offers an exciting challenge as friends come together to test their knowledge\, eagerly anticipating each new question while enjoying the cozy pub atmosphere.
URL:https://macallanspub.ca/event/trivia-night-36/
CATEGORIES:Weekly Specials
ATTACH;FMTTYPE=image/jpeg:https://macallanspub.ca/wp-content/uploads/2025/01/473568526_1130601452405265_843683785867691804_n.jpg
END:VEVENT
BEGIN:VEVENT
DTSTART;TZID=America/Toronto:20250817T200000
DTEND;TZID=America/Toronto:20250817T200000
DTSTAMP:20260424T095228
CREATED:20250701T025158Z
LAST-MODIFIED:20250701T025904Z
UID:18928-1755460800-1755460800@macallanspub.ca
SUMMARY:2 for 1 drinks 8pm to 12am
DESCRIPTION:2 for 1 drinks 8pm to 12am
URL:https://macallanspub.ca/event/2-for-1-drinks-8pm-to-12am-7/
CATEGORIES:Weekly Specials
ATTACH;FMTTYPE=image/jpeg:https://macallanspub.ca/wp-content/uploads/2025/06/2FOR1.jpg
END:VEVENT
BEGIN:VEVENT
DTSTART;TZID=America/Toronto:20250814T170000
DTEND;TZID=America/Toronto:20250814T170000
DTSTAMP:20260424T095228
CREATED:20250630T210735Z
LAST-MODIFIED:20250630T210735Z
UID:18900-1755190800-1755190800@macallanspub.ca
SUMMARY:1/2 Price Wings (and free pool) 5PM TO 12am
DESCRIPTION:1/2 Price Wings (and free pool) 5PM TO 12am
URL:https://macallanspub.ca/event/1-2-price-wings-and-free-pool-5pm-to-12am-7/
CATEGORIES:Weekly Specials
ATTACH;FMTTYPE=image/jpeg:https://macallanspub.ca/wp-content/uploads/2025/02/WING-NIGHT-1.jpg
END:VEVENT
BEGIN:VEVENT
DTSTART;TZID=America/Toronto:20250813T170000
DTEND;TZID=America/Toronto:20250813T200000
DTSTAMP:20260424T095228
CREATED:20250627T201851Z
LAST-MODIFIED:20250627T201851Z
UID:18801-1755104400-1755115200@macallanspub.ca
SUMMARY:2 for 1 burger (and free pool) 5PM TO 8PM
DESCRIPTION:2 for 1 burger (and free pool) 5PM TO 8PM
URL:https://macallanspub.ca/event/2-for-1-burger-and-free-pool-5pm-to-8pm-6/
CATEGORIES:Weekly Specials
ATTACH;FMTTYPE=image/jpeg:https://macallanspub.ca/wp-content/uploads/2025/02/BURGER-2.jpg
END:VEVENT
BEGIN:VEVENT
DTSTART;TZID=America/Toronto:20250812T190000
DTEND;TZID=America/Toronto:20250812T190000
DTSTAMP:20260424T095228
CREATED:20250626T010131Z
LAST-MODIFIED:20250626T030659Z
UID:18684-1755025200-1755025200@macallanspub.ca
SUMMARY:Trivia Night
DESCRIPTION:Trivia night at Macallans Pub offers an exciting challenge as friends come together to test their knowledge\, eagerly anticipating each new question while enjoying the cozy pub atmosphere.
URL:https://macallanspub.ca/event/trivia-night-35/
CATEGORIES:Weekly Specials
ATTACH;FMTTYPE=image/jpeg:https://macallanspub.ca/wp-content/uploads/2025/01/473568526_1130601452405265_843683785867691804_n.jpg
END:VEVENT
BEGIN:VEVENT
DTSTART;TZID=America/Toronto:20250810T200000
DTEND;TZID=America/Toronto:20250810T200000
DTSTAMP:20260424T095228
CREATED:20250701T025056Z
LAST-MODIFIED:20250701T030114Z
UID:18926-1754856000-1754856000@macallanspub.ca
SUMMARY:2 for 1 drinks 8pm to 12am
DESCRIPTION:2 for 1 drinks 8pm to 12am
URL:https://macallanspub.ca/event/2-for-1-drinks-8pm-to-12am-6/
CATEGORIES:Weekly Specials
ATTACH;FMTTYPE=image/jpeg:https://macallanspub.ca/wp-content/uploads/2025/06/2FOR1.jpg
END:VEVENT
BEGIN:VEVENT
DTSTART;TZID=America/Toronto:20250808T230000
DTEND;TZID=America/Toronto:20250808T230000
DTSTAMP:20260424T095228
CREATED:20250626T020606Z
LAST-MODIFIED:20250626T020606Z
UID:18728-1754694000-1754694000@macallanspub.ca
SUMMARY:Summer Blowout
DESCRIPTION:Summer blowout 11pm to close $ 6.09 + tax for domestic pints and standard drinks
URL:https://macallanspub.ca/event/summer-blowout-13/
CATEGORIES:Weekly Specials
ATTACH;FMTTYPE=image/png:https://macallanspub.ca/wp-content/uploads/2025/06/summer_blowout.png
END:VEVENT
BEGIN:VEVENT
DTSTART;TZID=America/Toronto:20250807T170000
DTEND;TZID=America/Toronto:20250807T170000
DTSTAMP:20260424T095228
CREATED:20250630T210652Z
LAST-MODIFIED:20250630T210652Z
UID:18898-1754586000-1754586000@macallanspub.ca
SUMMARY:1/2 Price Wings (and free pool) 5PM TO 12am
DESCRIPTION:1/2 Price Wings (and free pool) 5PM TO 12am
URL:https://macallanspub.ca/event/1-2-price-wings-and-free-pool-5pm-to-12am-6/
CATEGORIES:Weekly Specials
ATTACH;FMTTYPE=image/jpeg:https://macallanspub.ca/wp-content/uploads/2025/02/WING-NIGHT-1.jpg
END:VEVENT
BEGIN:VEVENT
DTSTART;TZID=America/Toronto:20250806T170000
DTEND;TZID=America/Toronto:20250806T200000
DTSTAMP:20260424T095228
CREATED:20250627T201553Z
LAST-MODIFIED:20250627T201553Z
UID:18798-1754499600-1754510400@macallanspub.ca
SUMMARY:2 for 1 burger (and free pool) 5PM TO 8PM
DESCRIPTION:2 for 1 burger (and free pool) 5PM TO 8PM
URL:https://macallanspub.ca/event/2-for-1-burger-and-free-pool-5pm-to-8pm-5/
CATEGORIES:Weekly Specials
ATTACH;FMTTYPE=image/jpeg:https://macallanspub.ca/wp-content/uploads/2025/02/BURGER-2.jpg
END:VEVENT
BEGIN:VEVENT
DTSTART;TZID=America/Toronto:20250805T190000
DTEND;TZID=America/Toronto:20250805T190000
DTSTAMP:20260424T095228
CREATED:20250626T005918Z
LAST-MODIFIED:20250626T030735Z
UID:18682-1754420400-1754420400@macallanspub.ca
SUMMARY:Trivia Night
DESCRIPTION:Trivia night at Macallans Pub offers an exciting challenge as friends come together to test their knowledge\, eagerly anticipating each new question while enjoying the cozy pub atmosphere.
URL:https://macallanspub.ca/event/trivia-night-34/
CATEGORIES:Weekly Specials
ATTACH;FMTTYPE=image/jpeg:https://macallanspub.ca/wp-content/uploads/2025/01/473568526_1130601452405265_843683785867691804_n.jpg
END:VEVENT
BEGIN:VEVENT
DTSTART;TZID=America/Toronto:20250803T200000
DTEND;TZID=America/Toronto:20250803T200000
DTSTAMP:20260424T095228
CREATED:20250701T025015Z
LAST-MODIFIED:20250701T025015Z
UID:18924-1754251200-1754251200@macallanspub.ca
SUMMARY:2 for 1 drinks 8pm to 12am
DESCRIPTION:2 for 1 drinks 8pm to 12am
URL:https://macallanspub.ca/event/2-for-1-drinks-8pm-to-12am-5/
CATEGORIES:Weekly Specials
ATTACH;FMTTYPE=image/jpeg:https://macallanspub.ca/wp-content/uploads/2025/06/2FOR1.jpg
END:VEVENT
BEGIN:VEVENT
DTSTART;TZID=America/Toronto:20250731T170000
DTEND;TZID=America/Toronto:20250731T170000
DTSTAMP:20260424T095228
CREATED:20250630T210605Z
LAST-MODIFIED:20250630T210605Z
UID:18896-1753981200-1753981200@macallanspub.ca
SUMMARY:1/2 Price Wings (and free pool) 5PM TO 12am
DESCRIPTION:1/2 Price Wings (and free pool) 5PM TO 12am
URL:https://macallanspub.ca/event/1-2-price-wings-and-free-pool-5pm-to-12am-5/
CATEGORIES:Weekly Specials
ATTACH;FMTTYPE=image/jpeg:https://macallanspub.ca/wp-content/uploads/2025/02/WING-NIGHT-1.jpg
END:VEVENT
BEGIN:VEVENT
DTSTART;TZID=America/Toronto:20250730T170000
DTEND;TZID=America/Toronto:20250730T200000
DTSTAMP:20260424T095228
CREATED:20250627T201217Z
LAST-MODIFIED:20250627T201217Z
UID:18796-1753894800-1753905600@macallanspub.ca
SUMMARY:2 for 1 burger (and free pool) 5PM TO 8PM
DESCRIPTION:2 for 1 burger (and free pool) 5PM TO 8PM
URL:https://macallanspub.ca/event/2-for-1-burger-and-free-pool-5pm-to-8pm-4/
CATEGORIES:Weekly Specials
ATTACH;FMTTYPE=image/jpeg:https://macallanspub.ca/wp-content/uploads/2025/02/BURGER-2.jpg
END:VEVENT
BEGIN:VEVENT
DTSTART;TZID=America/Toronto:20250729T190000
DTEND;TZID=America/Toronto:20250729T190000
DTSTAMP:20260424T095228
CREATED:20250626T005815Z
LAST-MODIFIED:20250626T030810Z
UID:18680-1753815600-1753815600@macallanspub.ca
SUMMARY:Trivia Night
DESCRIPTION:Trivia night at Macallans Pub offers an exciting challenge as friends come together to test their knowledge\, eagerly anticipating each new question while enjoying the cozy pub atmosphere.
URL:https://macallanspub.ca/event/trivia-night-33/
CATEGORIES:Weekly Specials
ATTACH;FMTTYPE=image/jpeg:https://macallanspub.ca/wp-content/uploads/2025/01/473568526_1130601452405265_843683785867691804_n.jpg
END:VEVENT
BEGIN:VEVENT
DTSTART;TZID=America/Toronto:20250727T200000
DTEND;TZID=America/Toronto:20250727T200000
DTSTAMP:20260424T095228
CREATED:20250701T024928Z
LAST-MODIFIED:20250701T024928Z
UID:18922-1753646400-1753646400@macallanspub.ca
SUMMARY:2 for 1 drinks 8pm to 12am
DESCRIPTION:2 for 1 drinks 8pm to 12am
URL:https://macallanspub.ca/event/2-for-1-drinks-8pm-to-12am-4/
CATEGORIES:Weekly Specials
ATTACH;FMTTYPE=image/jpeg:https://macallanspub.ca/wp-content/uploads/2025/06/2FOR1.jpg
END:VEVENT
BEGIN:VEVENT
DTSTART;TZID=America/Toronto:20250724T170000
DTEND;TZID=America/Toronto:20250724T170000
DTSTAMP:20260424T095228
CREATED:20250630T210506Z
LAST-MODIFIED:20250630T210506Z
UID:18894-1753376400-1753376400@macallanspub.ca
SUMMARY:1/2 Price Wings (and free pool) 5PM TO 12am
DESCRIPTION:1/2 Price Wings (and free pool) 5PM TO 12am
URL:https://macallanspub.ca/event/1-2-price-wings-and-free-pool-5pm-to-12am-4/
CATEGORIES:Weekly Specials
ATTACH;FMTTYPE=image/jpeg:https://macallanspub.ca/wp-content/uploads/2025/02/WING-NIGHT-1.jpg
END:VEVENT
BEGIN:VEVENT
DTSTART;TZID=America/Toronto:20250723T170000
DTEND;TZID=America/Toronto:20250723T200000
DTSTAMP:20260424T095228
CREATED:20250627T200732Z
LAST-MODIFIED:20250627T200844Z
UID:18794-1753290000-1753300800@macallanspub.ca
SUMMARY:2 for 1 burger (and free pool) 5PM TO 8PM
DESCRIPTION:2 for 1 burger (and free pool) 5PM TO 8PM
URL:https://macallanspub.ca/event/2-for-1-burger-and-free-pool-5pm-to-8pm-3/
CATEGORIES:Weekly Specials
ATTACH;FMTTYPE=image/jpeg:https://macallanspub.ca/wp-content/uploads/2025/02/BURGER-2.jpg
END:VEVENT
BEGIN:VEVENT
DTSTART;TZID=America/Toronto:20250722T190000
DTEND;TZID=America/Toronto:20250722T190000
DTSTAMP:20260424T095228
CREATED:20250626T005413Z
LAST-MODIFIED:20250626T030833Z
UID:18675-1753210800-1753210800@macallanspub.ca
SUMMARY:Trivia Night
DESCRIPTION:Trivia night at Macallans Pub offers an exciting challenge as friends come together to test their knowledge\, eagerly anticipating each new question while enjoying the cozy pub atmosphere.
URL:https://macallanspub.ca/event/trivia-night-31/
CATEGORIES:Weekly Specials
ATTACH;FMTTYPE=image/jpeg:https://macallanspub.ca/wp-content/uploads/2025/01/473568526_1130601452405265_843683785867691804_n.jpg
END:VEVENT
BEGIN:VEVENT
DTSTART;TZID=America/Toronto:20250720T200000
DTEND;TZID=America/Toronto:20250720T200000
DTSTAMP:20260424T095228
CREATED:20250701T024700Z
LAST-MODIFIED:20250701T024700Z
UID:18919-1753041600-1753041600@macallanspub.ca
SUMMARY:2 for 1 drinks 8pm to 12am
DESCRIPTION:2 for 1 drinks 8pm to 12am
URL:https://macallanspub.ca/event/2-for-1-drinks-8pm-to-12am-3/
CATEGORIES:Weekly Specials
ATTACH;FMTTYPE=image/jpeg:https://macallanspub.ca/wp-content/uploads/2025/06/2FOR1.jpg
END:VEVENT
END:VCALENDAR