BEGIN:VCALENDAR
VERSION:2.0
PRODID:-//Macallans Pub - Montreal - ECPv6.15.20//NONSGML v1.0//EN
CALSCALE:GREGORIAN
METHOD:PUBLISH
X-ORIGINAL-URL:https://macallanspub.ca
X-WR-CALDESC:Events for Macallans Pub - Montreal
REFRESH-INTERVAL;VALUE=DURATION:PT1H
X-Robots-Tag:noindex
X-PUBLISHED-TTL:PT1H
BEGIN:VTIMEZONE
TZID:America/Toronto
BEGIN:DAYLIGHT
TZOFFSETFROM:-0500
TZOFFSETTO:-0400
TZNAME:EDT
DTSTART:20240310T070000
END:DAYLIGHT
BEGIN:STANDARD
TZOFFSETFROM:-0400
TZOFFSETTO:-0500
TZNAME:EST
DTSTART:20241103T060000
END:STANDARD
BEGIN:DAYLIGHT
TZOFFSETFROM:-0500
TZOFFSETTO:-0400
TZNAME:EDT
DTSTART:20250309T070000
END:DAYLIGHT
BEGIN:STANDARD
TZOFFSETFROM:-0400
TZOFFSETTO:-0500
TZNAME:EST
DTSTART:20251102T060000
END:STANDARD
BEGIN:DAYLIGHT
TZOFFSETFROM:-0500
TZOFFSETTO:-0400
TZNAME:EDT
DTSTART:20260308T070000
END:DAYLIGHT
BEGIN:STANDARD
TZOFFSETFROM:-0400
TZOFFSETTO:-0500
TZNAME:EST
DTSTART:20261101T060000
END:STANDARD
END:VTIMEZONE
BEGIN:VEVENT
DTSTART;TZID=America/Toronto:20250720T200000
DTEND;TZID=America/Toronto:20250720T200000
DTSTAMP:20260424T111347
CREATED:20250701T024700Z
LAST-MODIFIED:20250701T024700Z
UID:18919-1753041600-1753041600@macallanspub.ca
SUMMARY:2 for 1 drinks 8pm to 12am
DESCRIPTION:2 for 1 drinks 8pm to 12am
URL:https://macallanspub.ca/event/2-for-1-drinks-8pm-to-12am-3/
CATEGORIES:Weekly Specials
ATTACH;FMTTYPE=image/jpeg:https://macallanspub.ca/wp-content/uploads/2025/06/2FOR1.jpg
END:VEVENT
BEGIN:VEVENT
DTSTART;TZID=America/Toronto:20250717T170000
DTEND;TZID=America/Toronto:20250717T170000
DTSTAMP:20260424T111347
CREATED:20250630T210427Z
LAST-MODIFIED:20250630T210427Z
UID:18892-1752771600-1752771600@macallanspub.ca
SUMMARY:1/2 Price Wings (and free pool) 5PM TO 12am
DESCRIPTION:1/2 Price Wings (and free pool) 5PM TO 12am
URL:https://macallanspub.ca/event/1-2-price-wings-and-free-pool-5pm-to-12am-3/
CATEGORIES:Weekly Specials
ATTACH;FMTTYPE=image/jpeg:https://macallanspub.ca/wp-content/uploads/2025/02/WING-NIGHT-1.jpg
END:VEVENT
BEGIN:VEVENT
DTSTART;TZID=America/Toronto:20250716T170000
DTEND;TZID=America/Toronto:20250716T200000
DTSTAMP:20260424T111347
CREATED:20250627T200424Z
LAST-MODIFIED:20250627T200424Z
UID:18792-1752685200-1752696000@macallanspub.ca
SUMMARY:2 for 1 burger (and free pool) 5PM TO 8PM
DESCRIPTION:2 for 1 burger (and free pool) 5PM TO 8PM
URL:https://macallanspub.ca/event/2-for-1-burger-and-free-pool-5pm-to-8pm-2/
CATEGORIES:Weekly Specials
ATTACH;FMTTYPE=image/jpeg:https://macallanspub.ca/wp-content/uploads/2025/02/BURGER-2.jpg
END:VEVENT
BEGIN:VEVENT
DTSTART;TZID=America/Toronto:20250715T190000
DTEND;TZID=America/Toronto:20250715T190000
DTSTAMP:20260424T111347
CREATED:20250626T005540Z
LAST-MODIFIED:20250626T030903Z
UID:18677-1752606000-1752606000@macallanspub.ca
SUMMARY:Trivia Night
DESCRIPTION:Trivia night at Macallans Pub offers an exciting challenge as friends come together to test their knowledge\, eagerly anticipating each new question while enjoying the cozy pub atmosphere.
URL:https://macallanspub.ca/event/trivia-night-32/
CATEGORIES:Weekly Specials
ATTACH;FMTTYPE=image/jpeg:https://macallanspub.ca/wp-content/uploads/2025/01/473568526_1130601452405265_843683785867691804_n.jpg
END:VEVENT
BEGIN:VEVENT
DTSTART;TZID=America/Toronto:20250713T200000
DTEND;TZID=America/Toronto:20250713T200000
DTSTAMP:20260424T111347
CREATED:20250701T024606Z
LAST-MODIFIED:20250701T024606Z
UID:18917-1752436800-1752436800@macallanspub.ca
SUMMARY:2 for 1 drinks 8pm to 12am
DESCRIPTION:2 for 1 drinks 8pm to 12am
URL:https://macallanspub.ca/event/2-for-1-drinks-8pm-to-12am-2/
CATEGORIES:Weekly Specials
ATTACH;FMTTYPE=image/jpeg:https://macallanspub.ca/wp-content/uploads/2025/06/2FOR1.jpg
END:VEVENT
BEGIN:VEVENT
DTSTART;TZID=America/Toronto:20250710T170000
DTEND;TZID=America/Toronto:20250710T170000
DTSTAMP:20260424T111347
CREATED:20250630T210118Z
LAST-MODIFIED:20250630T210229Z
UID:18889-1752166800-1752166800@macallanspub.ca
SUMMARY:1/2 Price Wings (and free pool) 5PM TO 12am
DESCRIPTION:1/2 Price Wings (and free pool) 5PM TO 12am
URL:https://macallanspub.ca/event/1-2-price-wings-and-free-pool-5pm-to-12am-2/
CATEGORIES:Weekly Specials
ATTACH;FMTTYPE=image/jpeg:https://macallanspub.ca/wp-content/uploads/2025/02/WING-NIGHT-1.jpg
END:VEVENT
BEGIN:VEVENT
DTSTART;TZID=America/Toronto:20250709T170000
DTEND;TZID=America/Toronto:20250709T200000
DTSTAMP:20260424T111347
CREATED:20250627T195854Z
LAST-MODIFIED:20250627T195854Z
UID:18787-1752080400-1752091200@macallanspub.ca
SUMMARY:2 for 1 burger (and free pool) 5PM TO 8PM
DESCRIPTION:2 for 1 burger (and free pool) 5PM TO 8PM
URL:https://macallanspub.ca/event/2-for-1-burger-and-free-pool-5pm-to-8pm/
CATEGORIES:Weekly Specials
ATTACH;FMTTYPE=image/jpeg:https://macallanspub.ca/wp-content/uploads/2025/02/BURGER-2.jpg
END:VEVENT
BEGIN:VEVENT
DTSTART;TZID=America/Toronto:20250708T190000
DTEND;TZID=America/Toronto:20250708T190000
DTSTAMP:20260424T111347
CREATED:20250626T005131Z
LAST-MODIFIED:20250626T030947Z
UID:18671-1752001200-1752001200@macallanspub.ca
SUMMARY:Trivia Night
DESCRIPTION:Trivia night at Macallans Pub offers an exciting challenge as friends come together to test their knowledge\, eagerly anticipating each new question while enjoying the cozy pub atmosphere.
URL:https://macallanspub.ca/event/trivia-night-29/
CATEGORIES:Weekly Specials
ATTACH;FMTTYPE=image/jpeg:https://macallanspub.ca/wp-content/uploads/2025/01/473568526_1130601452405265_843683785867691804_n.jpg
END:VEVENT
BEGIN:VEVENT
DTSTART;TZID=America/Toronto:20250706T200000
DTEND;TZID=America/Toronto:20250706T200000
DTSTAMP:20260424T111347
CREATED:20250701T024512Z
LAST-MODIFIED:20250701T024512Z
UID:18914-1751832000-1751832000@macallanspub.ca
SUMMARY:2 for 1 drinks 8pm to 12am
DESCRIPTION:2 for 1 drinks 8pm to 12am
URL:https://macallanspub.ca/event/2-for-1-drinks-8pm-to-12am/
CATEGORIES:Weekly Specials
ATTACH;FMTTYPE=image/jpeg:https://macallanspub.ca/wp-content/uploads/2025/06/2FOR1.jpg
END:VEVENT
BEGIN:VEVENT
DTSTART;TZID=America/Toronto:20250703T170000
DTEND;TZID=America/Toronto:20250703T170000
DTSTAMP:20260424T111347
CREATED:20250630T205629Z
LAST-MODIFIED:20250630T210318Z
UID:18887-1751562000-1751562000@macallanspub.ca
SUMMARY:1/2 Price Wings (and free pool) 5PM TO 12am
DESCRIPTION:1/2 Price Wings (and free pool) 5PM TO 12am
URL:https://macallanspub.ca/event/1-2-price-wings-and-free-pool-5pm-to-12am/
CATEGORIES:Weekly Specials
ATTACH;FMTTYPE=image/jpeg:https://macallanspub.ca/wp-content/uploads/2025/02/WING-NIGHT-1.jpg
END:VEVENT
BEGIN:VEVENT
DTSTART;TZID=America/Toronto:20250702T170000
DTEND;TZID=America/Toronto:20250702T200000
DTSTAMP:20260424T111347
CREATED:20250627T195740Z
LAST-MODIFIED:20250627T200303Z
UID:18785-1751475600-1751486400@macallanspub.ca
SUMMARY:2 for 1 burger (and free pool) 5PM TO 8PM
DESCRIPTION:2 for 1 burger (and free pool) 5PM TO 8PM
URL:https://macallanspub.ca/event/2-for-1-burger-and-free-pool/
CATEGORIES:Weekly Specials
ATTACH;FMTTYPE=image/jpeg:https://macallanspub.ca/wp-content/uploads/2025/02/BURGER-2.jpg
END:VEVENT
BEGIN:VEVENT
DTSTART;TZID=America/Toronto:20250528T190000
DTEND;TZID=America/Toronto:20250528T190000
DTSTAMP:20260424T111347
CREATED:20250313T163904Z
LAST-MODIFIED:20250313T203220Z
UID:17559-1748458800-1748458800@macallanspub.ca
SUMMARY:KARAOKE NIGHT
DESCRIPTION:Join us for a fun-filled\, karaoke night where you can sing your heart out and make unforgettable memories with friends!
URL:https://macallanspub.ca/event/karaoke-night-10/
CATEGORIES:Weekly Specials
ATTACH;FMTTYPE=image/jpeg:https://macallanspub.ca/wp-content/uploads/2025/01/Karaoke-Night.jpg
END:VEVENT
BEGIN:VEVENT
DTSTART;TZID=America/Toronto:20250527T190000
DTEND;TZID=America/Toronto:20250527T190000
DTSTAMP:20260424T111347
CREATED:20250123T171201Z
LAST-MODIFIED:20250123T171220Z
UID:17298-1748372400-1748372400@macallanspub.ca
SUMMARY:Trivia Night
DESCRIPTION:Trivia night at Macallans Pub offers an exciting challenge as friends come together to test their knowledge\, eagerly anticipating each new question while enjoying the cozy pub atmosphere. The camaraderie…
URL:https://macallanspub.ca/event/trivia-night-28/
CATEGORIES:Weekly Specials
ATTACH;FMTTYPE=image/jpeg:https://macallanspub.ca/wp-content/uploads/2025/01/473568526_1130601452405265_843683785867691804_n.jpg
END:VEVENT
BEGIN:VEVENT
DTSTART;TZID=America/Toronto:20250520T190000
DTEND;TZID=America/Toronto:20250520T190000
DTSTAMP:20260424T111347
CREATED:20250123T170918Z
LAST-MODIFIED:20250123T170918Z
UID:17296-1747767600-1747767600@macallanspub.ca
SUMMARY:Trivia Night
DESCRIPTION:Trivia night at Macallans Pub offers an exciting challenge as friends come together to test their knowledge\, eagerly anticipating each new question while enjoying the cozy pub atmosphere. The camaraderie…
URL:https://macallanspub.ca/event/trivia-night-27/
CATEGORIES:Weekly Specials
ATTACH;FMTTYPE=image/jpeg:https://macallanspub.ca/wp-content/uploads/2025/01/473568526_1130601452405265_843683785867691804_n.jpg
END:VEVENT
BEGIN:VEVENT
DTSTART;TZID=America/Toronto:20250514T190000
DTEND;TZID=America/Toronto:20250514T190000
DTSTAMP:20260424T111347
CREATED:20250313T163708Z
LAST-MODIFIED:20250313T163717Z
UID:17557-1747249200-1747249200@macallanspub.ca
SUMMARY:KARAOKE NIGHT
DESCRIPTION:Join us for a fun-filled\, karaoke night where you can sing your heart out and make unforgettable memories with friends!
URL:https://macallanspub.ca/event/karaoke-night-9/
CATEGORIES:Weekly Specials
ATTACH;FMTTYPE=image/jpeg:https://macallanspub.ca/wp-content/uploads/2025/01/Karaoke-Night.jpg
END:VEVENT
BEGIN:VEVENT
DTSTART;TZID=America/Toronto:20250513T190000
DTEND;TZID=America/Toronto:20250513T190000
DTSTAMP:20260424T111347
CREATED:20250123T170659Z
LAST-MODIFIED:20250123T170659Z
UID:17294-1747162800-1747162800@macallanspub.ca
SUMMARY:Trivia Night
DESCRIPTION:Trivia night at Macallans Pub offers an exciting challenge as friends come together to test their knowledge\, eagerly anticipating each new question while enjoying the cozy pub atmosphere. The camaraderie…
URL:https://macallanspub.ca/event/trivia-night-26/
CATEGORIES:Weekly Specials
ATTACH;FMTTYPE=image/jpeg:https://macallanspub.ca/wp-content/uploads/2025/01/473568526_1130601452405265_843683785867691804_n.jpg
END:VEVENT
BEGIN:VEVENT
DTSTART;TZID=America/Toronto:20250506T190000
DTEND;TZID=America/Toronto:20250506T190000
DTSTAMP:20260424T111347
CREATED:20250123T170456Z
LAST-MODIFIED:20250123T170456Z
UID:17292-1746558000-1746558000@macallanspub.ca
SUMMARY:Trivia Night
DESCRIPTION:Trivia night at Macallans Pub offers an exciting challenge as friends come together to test their knowledge\, eagerly anticipating each new question while enjoying the cozy pub atmosphere. The camaraderie…
URL:https://macallanspub.ca/event/trivia-night-25/
CATEGORIES:Weekly Specials
ATTACH;FMTTYPE=image/jpeg:https://macallanspub.ca/wp-content/uploads/2025/01/473568526_1130601452405265_843683785867691804_n.jpg
END:VEVENT
BEGIN:VEVENT
DTSTART;TZID=America/Toronto:20250430T190000
DTEND;TZID=America/Toronto:20250430T190000
DTSTAMP:20260424T111347
CREATED:20250122T213505Z
LAST-MODIFIED:20250203T184044Z
UID:17272-1746039600-1746039600@macallanspub.ca
SUMMARY:Karaoke Night
DESCRIPTION:Join us for a fun-filled\, karaoke night where you can sing your heart out and make unforgettable memories with friends!
URL:https://macallanspub.ca/event/karaoke-night-7/
CATEGORIES:Weekly Specials
ATTACH;FMTTYPE=image/jpeg:https://macallanspub.ca/wp-content/uploads/2025/01/Karaoke-Night.jpg
END:VEVENT
BEGIN:VEVENT
DTSTART;TZID=America/Toronto:20250429T190000
DTEND;TZID=America/Toronto:20250429T190000
DTSTAMP:20260424T111347
CREATED:20250122T212342Z
LAST-MODIFIED:20250122T212425Z
UID:17264-1745953200-1745953200@macallanspub.ca
SUMMARY:Trivia Night
DESCRIPTION:Trivia night at Macallans Pub offers an exciting challenge as friends come together to test their knowledge\, eagerly anticipating each new question while enjoying the cozy pub atmosphere. The camaraderie…
URL:https://macallanspub.ca/event/trivia-night-24/
CATEGORIES:Weekly Specials
ATTACH;FMTTYPE=image/jpeg:https://macallanspub.ca/wp-content/uploads/2025/01/473568526_1130601452405265_843683785867691804_n.jpg
END:VEVENT
BEGIN:VEVENT
DTSTART;TZID=America/Toronto:20250422T190000
DTEND;TZID=America/Toronto:20250422T190000
DTSTAMP:20260424T111347
CREATED:20250122T212235Z
LAST-MODIFIED:20250122T212235Z
UID:17261-1745348400-1745348400@macallanspub.ca
SUMMARY:Trivia Night
DESCRIPTION:Trivia night at Macallans Pub offers an exciting challenge as friends come together to test their knowledge\, eagerly anticipating each new question while enjoying the cozy pub atmosphere. The camaraderie…
URL:https://macallanspub.ca/event/trivia-night-23/
CATEGORIES:Weekly Specials
ATTACH;FMTTYPE=image/jpeg:https://macallanspub.ca/wp-content/uploads/2025/01/473568526_1130601452405265_843683785867691804_n.jpg
END:VEVENT
BEGIN:VEVENT
DTSTART;TZID=America/Toronto:20250419T140000
DTEND;TZID=America/Toronto:20250419T140000
DTSTAMP:20260424T111347
CREATED:20250219T200704Z
LAST-MODIFIED:20250219T200704Z
UID:17459-1745071200-1745071200@macallanspub.ca
SUMMARY:Cribbage Tournament
DESCRIPTION:15-2\, 15-4 after this tournament you’ll want more!\nJoin us at Macallans Pub for an exciting cribbage tournament where strategy and fun blend perfectly in a warm\, inviting atmosphere. Whether you’re a seasoned player or a newcomer\, enjoy a day filled with engaging matches\, great company\, $100 in prizes and a selection of delicious pub fare and drinks to enhance your experience.
URL:https://macallanspub.ca/event/cribbage-tournament-10/
CATEGORIES:Weekly Specials
ATTACH;FMTTYPE=image/jpeg:https://macallanspub.ca/wp-content/uploads/2025/02/LiveLights.jpg
END:VEVENT
BEGIN:VEVENT
DTSTART;TZID=America/Toronto:20250415T190000
DTEND;TZID=America/Toronto:20250415T190000
DTSTAMP:20260424T111347
CREATED:20250122T211500Z
LAST-MODIFIED:20250122T211500Z
UID:17257-1744743600-1744743600@macallanspub.ca
SUMMARY:Trivia Night
DESCRIPTION:Trivia night at Macallans Pub offers an exciting challenge as friends come together to test their knowledge\, eagerly anticipating each new question while enjoying the cozy pub atmosphere. The camaraderie…
URL:https://macallanspub.ca/event/trivia-night-22/
CATEGORIES:Weekly Specials
ATTACH;FMTTYPE=image/jpeg:https://macallanspub.ca/wp-content/uploads/2025/01/473568526_1130601452405265_843683785867691804_n.jpg
END:VEVENT
BEGIN:VEVENT
DTSTART;TZID=America/Toronto:20250412T140000
DTEND;TZID=America/Toronto:20250412T140000
DTSTAMP:20260424T111347
CREATED:20250219T200335Z
LAST-MODIFIED:20250219T200335Z
UID:17457-1744466400-1744466400@macallanspub.ca
SUMMARY:Cribbage Tournament
DESCRIPTION:15-2\, 15-4 after this tournament you’ll want more!\nJoin us at Macallans Pub for an exciting cribbage tournament where strategy and fun blend perfectly in a warm\, inviting atmosphere. Whether you’re a seasoned player or a newcomer\, enjoy a day filled with engaging matches\, great company\, $100 in prizes and a selection of delicious pub fare and drinks to enhance your experience.
URL:https://macallanspub.ca/event/cribbage-tournament-9/
CATEGORIES:Weekly Specials
ATTACH;FMTTYPE=image/jpeg:https://macallanspub.ca/wp-content/uploads/2025/01/CRIBBAGE.jpg
END:VEVENT
BEGIN:VEVENT
DTSTART;TZID=America/Toronto:20250409T190000
DTEND;TZID=America/Toronto:20250409T190000
DTSTAMP:20260424T111347
CREATED:20250122T213314Z
LAST-MODIFIED:20250203T184112Z
UID:17270-1744225200-1744225200@macallanspub.ca
SUMMARY:Karaoke Night
DESCRIPTION:Join us for a fun-filled\, karaoke night where you can sing your heart out and make unforgettable memories with friends!
URL:https://macallanspub.ca/event/karaoke-night-6/
CATEGORIES:Weekly Specials
ATTACH;FMTTYPE=image/jpeg:https://macallanspub.ca/wp-content/uploads/2025/01/Karaoke-Night.jpg
END:VEVENT
BEGIN:VEVENT
DTSTART;TZID=America/Toronto:20250408T190000
DTEND;TZID=America/Toronto:20250408T190000
DTSTAMP:20260424T111347
CREATED:20250122T211346Z
LAST-MODIFIED:20250122T211832Z
UID:17255-1744138800-1744138800@macallanspub.ca
SUMMARY:Trivia Night
DESCRIPTION:Trivia night at Macallans Pub offers an exciting challenge as friends come together to test their knowledge\, eagerly anticipating each new question while enjoying the cozy pub atmosphere. The camaraderie.
URL:https://macallanspub.ca/event/trivia-night-21/
CATEGORIES:Weekly Specials
ATTACH;FMTTYPE=image/jpeg:https://macallanspub.ca/wp-content/uploads/2025/01/473568526_1130601452405265_843683785867691804_n.jpg
END:VEVENT
BEGIN:VEVENT
DTSTART;TZID=America/Toronto:20250405T140000
DTEND;TZID=America/Toronto:20250405T140000
DTSTAMP:20260424T111347
CREATED:20250219T200047Z
LAST-MODIFIED:20250219T200047Z
UID:17455-1743861600-1743861600@macallanspub.ca
SUMMARY:Cribbage Tournament
DESCRIPTION:15-2\, 15-4 after this tournament you’ll want more!\nJoin us at Macallans Pub for an exciting cribbage tournament where strategy and fun blend perfectly in a warm\, inviting atmosphere. Whether you’re a seasoned player or a newcomer\, enjoy a day filled with engaging matches\, great company\, $100 in prizes and a selection of delicious pub fare and drinks to enhance your experience.
URL:https://macallanspub.ca/event/cribbage-tournament-8/
CATEGORIES:Weekly Specials
ATTACH;FMTTYPE=image/jpeg:https://macallanspub.ca/wp-content/uploads/2025/01/CRIBBAGE.jpg
END:VEVENT
BEGIN:VEVENT
DTSTART;TZID=America/Toronto:20250401T190000
DTEND;TZID=America/Toronto:20250401T190000
DTSTAMP:20260424T111347
CREATED:20250122T211248Z
LAST-MODIFIED:20250122T211248Z
UID:17253-1743534000-1743534000@macallanspub.ca
SUMMARY:Trivia Night
DESCRIPTION:Don’t be an April Fool! \nTrivia night at Macallans Pub offers an exciting challenge as friends come together to test their knowledge\, eagerly anticipating each new question while enjoying the cozy pub atmosphere. The camaraderie…
URL:https://macallanspub.ca/event/trivia-night-20/
CATEGORIES:Weekly Specials
ATTACH;FMTTYPE=image/jpeg:https://macallanspub.ca/wp-content/uploads/2025/01/473568526_1130601452405265_843683785867691804_n.jpg
END:VEVENT
BEGIN:VEVENT
DTSTART;TZID=America/Toronto:20250329T140000
DTEND;TZID=America/Toronto:20250329T140000
DTSTAMP:20260424T111347
CREATED:20250219T195903Z
LAST-MODIFIED:20250219T195903Z
UID:17452-1743256800-1743256800@macallanspub.ca
SUMMARY:Cribbage Tournament
DESCRIPTION:15-2\, 15-4 after this tournament you’ll want more!\nJoin us at Macallans Pub for an exciting cribbage tournament where strategy and fun blend perfectly in a warm\, inviting atmosphere. Whether you’re a seasoned player or a newcomer\, enjoy a day filled with engaging matches\, great company\, $100 in prizes and a selection of delicious pub fare and drinks to enhance your experience.
URL:https://macallanspub.ca/event/cribbage-tournament-7/
CATEGORIES:Weekly Specials
ATTACH;FMTTYPE=image/jpeg:https://macallanspub.ca/wp-content/uploads/2025/01/CRIBBAGE.jpg
END:VEVENT
BEGIN:VEVENT
DTSTART;TZID=America/Toronto:20250327T170000
DTEND;TZID=America/Toronto:20250327T170000
DTSTAMP:20260424T111347
CREATED:20250106T172747Z
LAST-MODIFIED:20250106T183947Z
UID:17126-1743094800-1743094800@macallanspub.ca
SUMMARY:Wing Night
DESCRIPTION:Get your wing fix every Thursday!  Half-price wings from 5 PM to midnight. Plus\, free pool all day!
URL:https://macallanspub.ca/event/wing-night-27/
CATEGORIES:Weekly Specials
ATTACH;FMTTYPE=image/jpeg:https://macallanspub.ca/wp-content/uploads/2025/01/WING-NIGHT-1.jpg
END:VEVENT
BEGIN:VEVENT
DTSTART;TZID=America/Toronto:20250326T190000
DTEND;TZID=America/Toronto:20250326T190000
DTSTAMP:20260424T111347
CREATED:20250122T183455Z
LAST-MODIFIED:20250203T184156Z
UID:17215-1743015600-1743015600@macallanspub.ca
SUMMARY:Karaoke Night
DESCRIPTION:Join us for a fun-filled\, karaoke night where you can sing your heart out and make unforgettable memories with friends!
URL:https://macallanspub.ca/event/karaoke-night-5/
CATEGORIES:Weekly Specials
ATTACH;FMTTYPE=image/jpeg:https://macallanspub.ca/wp-content/uploads/2025/01/Karaoke-Night.jpg
END:VEVENT
END:VCALENDAR