BEGIN:VCALENDAR
VERSION:2.0
PRODID:-//Macallans Pub - Montreal - ECPv6.15.20//NONSGML v1.0//EN
CALSCALE:GREGORIAN
METHOD:PUBLISH
X-ORIGINAL-URL:https://macallanspub.ca
X-WR-CALDESC:Events for Macallans Pub - Montreal
REFRESH-INTERVAL;VALUE=DURATION:PT1H
X-Robots-Tag:noindex
X-PUBLISHED-TTL:PT1H
BEGIN:VTIMEZONE
TZID:America/Toronto
BEGIN:DAYLIGHT
TZOFFSETFROM:-0500
TZOFFSETTO:-0400
TZNAME:EDT
DTSTART:20250309T070000
END:DAYLIGHT
BEGIN:STANDARD
TZOFFSETFROM:-0400
TZOFFSETTO:-0500
TZNAME:EST
DTSTART:20251102T060000
END:STANDARD
BEGIN:DAYLIGHT
TZOFFSETFROM:-0500
TZOFFSETTO:-0400
TZNAME:EDT
DTSTART:20260308T070000
END:DAYLIGHT
BEGIN:STANDARD
TZOFFSETFROM:-0400
TZOFFSETTO:-0500
TZNAME:EST
DTSTART:20261101T060000
END:STANDARD
BEGIN:DAYLIGHT
TZOFFSETFROM:-0500
TZOFFSETTO:-0400
TZNAME:EDT
DTSTART:20270314T070000
END:DAYLIGHT
BEGIN:STANDARD
TZOFFSETFROM:-0400
TZOFFSETTO:-0500
TZNAME:EST
DTSTART:20271107T060000
END:STANDARD
END:VTIMEZONE
BEGIN:VEVENT
DTSTART;TZID=America/Toronto:20260718T200000
DTEND;TZID=America/Toronto:20260718T200000
DTSTAMP:20260424T054340
CREATED:20260423T185133Z
LAST-MODIFIED:20260423T185133Z
UID:23301-1784404800-1784404800@macallanspub.ca
SUMMARY:Strum
DESCRIPTION:** FREE SHOW \nSTRUM is a high energy and entertaining classic rock coverband that consists of a dynamic group of musicians from Montréal. \nYou want a night of dancing and singing along?! We’ve got you covered!
URL:https://macallanspub.ca/event/strum-3/
CATEGORIES:Live Music Events
ATTACH;FMTTYPE=image/jpeg:https://macallanspub.ca/wp-content/uploads/2025/07/493541423_1020725306705226_1129597534997439736_n.jpg
END:VEVENT
BEGIN:VEVENT
DTSTART;TZID=America/Toronto:20260724T190000
DTEND;TZID=America/Toronto:20260724T190000
DTSTAMP:20260424T054340
CREATED:20260423T185626Z
LAST-MODIFIED:20260423T185820Z
UID:23304-1784919600-1784919600@macallanspub.ca
SUMMARY:The Thrills
DESCRIPTION:** FREE SHOW \nBIG NEWS! After an incredible journey under the name The Shinies\, we are thrilled to announce our new name: THE THRILLS. \nAs part of this transformation\, THE THRILLS are proud to introduce their new singer\, Christelle Noël\, whose dynamic voice and charisma bring fresh energy to the band’s performances! We are launching a whole new era: stronger\, brighter\, and more exciting than ever! \nNew name. New voice. Still the same boundless energy\, now fueled by renewed creativity.Same mission: to give you the most uplifting and engaging pop-rock experience in the world. \nThank you for supporting us through all the versions of the band; now get ready to take things to the next level. \nHere’s THE THRILLS. Let’s go! 
URL:https://macallanspub.ca/event/the-thrills-2/
CATEGORIES:Live Music Events
ATTACH;FMTTYPE=image/jpeg:https://macallanspub.ca/wp-content/uploads/2025/12/Poster-Officiel-The-Thrills-scaled.jpg
END:VEVENT
BEGIN:VEVENT
DTSTART;TZID=America/Toronto:20260725T200000
DTEND;TZID=America/Toronto:20260725T200000
DTSTAMP:20260424T054340
CREATED:20260423T190357Z
LAST-MODIFIED:20260423T190357Z
UID:23303-1785009600-1785009600@macallanspub.ca
SUMMARY:Take Three Trio
DESCRIPTION:** FREE SHOW \nTake Three is a trio made up of Patrice\, Todd\, and Martin! Their well-polished performances feature a wide variety of songs that everyone knows. \nThey stand out by offering three high-caliber vocalists and impressive vocal harmonies! \nTheir performances are authentic and completely live\, no computers or playback are used.
URL:https://macallanspub.ca/event/take-three-trio/
CATEGORIES:Live Music Events
ATTACH;FMTTYPE=image/png:https://macallanspub.ca/wp-content/uploads/2026/04/Screenshot-2026-04-23-at-3.00.40-PM.png
END:VEVENT
END:VCALENDAR